BEGIN:VCALENDAR
PRODID:http://www.kufer.de/kuferweb / DE
VERSION:2.0
METHOD:PUBLISH
CALSCALE:GREGORIAN
X-WR-TIMEZONE:Europe/Berlin
BEGIN:VTIMEZONE
TZID:Europe/Berlin
X-LIC-LOCATION:Europe/Berlin
BEGIN:DAYLIGHT
TZOFFSETFROM:+0100
TZOFFSETTO:+0200
TZNAME:CEST
DTSTART;TZID=Europe/Berlin:19700329T020000
RRULE:FREQ=YEARLY;INTERVAL=1;BYDAY=-1SU;BYMONTH=3
END:DAYLIGHT
BEGIN:STANDARD
TZOFFSETFROM:+0200
TZOFFSETTO:+0100
TZNAME:CET
DTSTART;TZID=Europe/Berlin:19701025T030000
RRULE:FREQ=YEARLY;INTERVAL=1;BYDAY=-1SU;BYMONTH=10
END:STANDARD
END:VTIMEZONE
BEGIN:VEVENT
DTSTAMP:20260424T112050
DTSTART;TZID=Europe/Berlin:20240315T103000
DTEND;TZID=Europe/Berlin:20240315T120000
UID:2415WBBWEB-20240315T103000@VHSOBERES NAGOLDTAL
DESCRIPTION:12.03.24 (*MA): TN: Sandra Merz 1. Termin
SUMMARY:LNWBB - Weiterbildungsberatung (2415WBBWEB) 
LOCATION:Volkshochschule Nagold: DG1, Bahnhofstraße 41, 72202 Nagold
END:VEVENT
END:VCALENDAR