BEGIN:VCALENDAR
PRODID:http://www.kufer.de/kuferweb / DE
VERSION:2.0
METHOD:PUBLISH
CALSCALE:GREGORIAN
X-WR-TIMEZONE:Europe/Berlin
BEGIN:VTIMEZONE
TZID:Europe/Berlin
X-LIC-LOCATION:Europe/Berlin
BEGIN:DAYLIGHT
TZOFFSETFROM:+0100
TZOFFSETTO:+0200
TZNAME:CEST
DTSTART;TZID=Europe/Berlin:19700329T020000
RRULE:FREQ=YEARLY;INTERVAL=1;BYDAY=-1SU;BYMONTH=3
END:DAYLIGHT
BEGIN:STANDARD
TZOFFSETFROM:+0200
TZOFFSETTO:+0100
TZNAME:CET
DTSTART;TZID=Europe/Berlin:19701025T030000
RRULE:FREQ=YEARLY;INTERVAL=1;BYDAY=-1SU;BYMONTH=10
END:STANDARD
END:VTIMEZONE
BEGIN:VEVENT
DTSTAMP:20260422T211855
DTSTART;TZID=Europe/Berlin:20260324T083000
DTEND;TZID=Europe/Berlin:20260324T123000
UID:2524IK1413-20260324T083000@VHSOBERES NAGOLDTAL
SUMMARY:141. Integrationskurs Modul 3 (2524IK1413) 
LOCATION:Evangelisches Gemeindehaus, Lemberg, Remigiusweg 3 , 72202 Nagold
END:VEVENT
BEGIN:VEVENT
DTSTAMP:20260422T211855
DTSTART;TZID=Europe/Berlin:20260325T083000
DTEND;TZID=Europe/Berlin:20260325T123000
UID:2524IK1413-20260325T083000@VHSOBERES NAGOLDTAL
SUMMARY:141. Integrationskurs Modul 3 (2524IK1413) 
LOCATION:Evangelisches Gemeindehaus, Lemberg, Remigiusweg 3 , 72202 Nagold
END:VEVENT
BEGIN:VEVENT
DTSTAMP:20260422T211855
DTSTART;TZID=Europe/Berlin:20260326T083000
DTEND;TZID=Europe/Berlin:20260326T123000
UID:2524IK1413-20260326T083000@VHSOBERES NAGOLDTAL
SUMMARY:141. Integrationskurs Modul 3 (2524IK1413) 
LOCATION:Evangelisches Gemeindehaus, Lemberg, Remigiusweg 3 , 72202 Nagold
END:VEVENT
BEGIN:VEVENT
DTSTAMP:20260422T211855
DTSTART;TZID=Europe/Berlin:20260327T083000
DTEND;TZID=Europe/Berlin:20260327T123000
UID:2524IK1413-20260327T083000@VHSOBERES NAGOLDTAL
SUMMARY:141. Integrationskurs Modul 3 (2524IK1413) 
LOCATION:Evangelisches Gemeindehaus, Lemberg, Remigiusweg 3 , 72202 Nagold
END:VEVENT
BEGIN:VEVENT
DTSTAMP:20260422T211855
DTSTART;TZID=Europe/Berlin:20260413T083000
DTEND;TZID=Europe/Berlin:20260413T123000
UID:2524IK1413-20260413T083000@VHSOBERES NAGOLDTAL
SUMMARY:141. Integrationskurs Modul 3 (2524IK1413) 
LOCATION:Evangelisches Gemeindehaus, Lemberg, Remigiusweg 3 , 72202 Nagold
END:VEVENT
BEGIN:VEVENT
DTSTAMP:20260422T211855
DTSTART;TZID=Europe/Berlin:20260414T083000
DTEND;TZID=Europe/Berlin:20260414T123000
UID:2524IK1413-20260414T083000@VHSOBERES NAGOLDTAL
SUMMARY:141. Integrationskurs Modul 3 (2524IK1413) 
LOCATION:Evangelisches Gemeindehaus, Lemberg, Remigiusweg 3 , 72202 Nagold
END:VEVENT
BEGIN:VEVENT
DTSTAMP:20260422T211855
DTSTART;TZID=Europe/Berlin:20260415T083000
DTEND;TZID=Europe/Berlin:20260415T123000
UID:2524IK1413-20260415T083000@VHSOBERES NAGOLDTAL
SUMMARY:141. Integrationskurs Modul 3 (2524IK1413) 
LOCATION:Evangelisches Gemeindehaus, Lemberg, Remigiusweg 3 , 72202 Nagold
END:VEVENT
BEGIN:VEVENT
DTSTAMP:20260422T211855
DTSTART;TZID=Europe/Berlin:20260416T083000
DTEND;TZID=Europe/Berlin:20260416T123000
UID:2524IK1413-20260416T083000@VHSOBERES NAGOLDTAL
SUMMARY:141. Integrationskurs Modul 3 (2524IK1413) 
LOCATION:Evangelisches Gemeindehaus, Lemberg, Remigiusweg 3 , 72202 Nagold
END:VEVENT
BEGIN:VEVENT
DTSTAMP:20260422T211855
DTSTART;TZID=Europe/Berlin:20260417T083000
DTEND;TZID=Europe/Berlin:20260417T123000
UID:2524IK1413-20260417T083000@VHSOBERES NAGOLDTAL
SUMMARY:141. Integrationskurs Modul 3 (2524IK1413) 
LOCATION:Evangelisches Gemeindehaus, Lemberg, Remigiusweg 3 , 72202 Nagold
END:VEVENT
BEGIN:VEVENT
DTSTAMP:20260422T211855
DTSTART;TZID=Europe/Berlin:20260420T083000
DTEND;TZID=Europe/Berlin:20260420T123000
UID:2524IK1413-20260420T083000@VHSOBERES NAGOLDTAL
SUMMARY:141. Integrationskurs Modul 3 (2524IK1413) 
LOCATION:Evangelisches Gemeindehaus, Lemberg, Remigiusweg 3 , 72202 Nagold
END:VEVENT
BEGIN:VEVENT
DTSTAMP:20260422T211855
DTSTART;TZID=Europe/Berlin:20260421T083000
DTEND;TZID=Europe/Berlin:20260421T123000
UID:2524IK1413-20260421T083000@VHSOBERES NAGOLDTAL
SUMMARY:141. Integrationskurs Modul 3 (2524IK1413) 
LOCATION:Evangelisches Gemeindehaus, Lemberg, Remigiusweg 3 , 72202 Nagold
END:VEVENT
BEGIN:VEVENT
DTSTAMP:20260422T211855
DTSTART;TZID=Europe/Berlin:20260422T083000
DTEND;TZID=Europe/Berlin:20260422T123000
UID:2524IK1413-20260422T083000@VHSOBERES NAGOLDTAL
SUMMARY:141. Integrationskurs Modul 3 (2524IK1413) 
LOCATION:Evangelisches Gemeindehaus, Lemberg, Remigiusweg 3 , 72202 Nagold
END:VEVENT
BEGIN:VEVENT
DTSTAMP:20260422T211855
DTSTART;TZID=Europe/Berlin:20260423T083000
DTEND;TZID=Europe/Berlin:20260423T123000
UID:2524IK1413-20260423T083000@VHSOBERES NAGOLDTAL
SUMMARY:141. Integrationskurs Modul 3 (2524IK1413) 
LOCATION:Evangelisches Gemeindehaus, Lemberg, Remigiusweg 3 , 72202 Nagold
END:VEVENT
BEGIN:VEVENT
DTSTAMP:20260422T211855
DTSTART;TZID=Europe/Berlin:20260424T083000
DTEND;TZID=Europe/Berlin:20260424T123000
UID:2524IK1413-20260424T083000@VHSOBERES NAGOLDTAL
SUMMARY:141. Integrationskurs Modul 3 (2524IK1413) 
LOCATION:Evangelisches Gemeindehaus, Lemberg, Remigiusweg 3 , 72202 Nagold
END:VEVENT
BEGIN:VEVENT
DTSTAMP:20260422T211855
DTSTART;TZID=Europe/Berlin:20260427T083000
DTEND;TZID=Europe/Berlin:20260427T123000
UID:2524IK1413-20260427T083000@VHSOBERES NAGOLDTAL
SUMMARY:141. Integrationskurs Modul 3 (2524IK1413) 
LOCATION:Evangelisches Gemeindehaus, Lemberg, Remigiusweg 3 , 72202 Nagold
END:VEVENT
BEGIN:VEVENT
DTSTAMP:20260422T211855
DTSTART;TZID=Europe/Berlin:20260428T083000
DTEND;TZID=Europe/Berlin:20260428T123000
UID:2524IK1413-20260428T083000@VHSOBERES NAGOLDTAL
SUMMARY:141. Integrationskurs Modul 3 (2524IK1413) 
LOCATION:Evangelisches Gemeindehaus, Lemberg, Remigiusweg 3 , 72202 Nagold
END:VEVENT
BEGIN:VEVENT
DTSTAMP:20260422T211855
DTSTART;TZID=Europe/Berlin:20260429T083000
DTEND;TZID=Europe/Berlin:20260429T123000
UID:2524IK1413-20260429T083000@VHSOBERES NAGOLDTAL
SUMMARY:141. Integrationskurs Modul 3 (2524IK1413) 
LOCATION:Evangelisches Gemeindehaus, Lemberg, Remigiusweg 3 , 72202 Nagold
END:VEVENT
BEGIN:VEVENT
DTSTAMP:20260422T211855
DTSTART;TZID=Europe/Berlin:20260430T083000
DTEND;TZID=Europe/Berlin:20260430T123000
UID:2524IK1413-20260430T083000@VHSOBERES NAGOLDTAL
SUMMARY:141. Integrationskurs Modul 3 (2524IK1413) 
LOCATION:Evangelisches Gemeindehaus, Lemberg, Remigiusweg 3 , 72202 Nagold
END:VEVENT
BEGIN:VEVENT
DTSTAMP:20260422T211855
DTSTART;TZID=Europe/Berlin:20260504T083000
DTEND;TZID=Europe/Berlin:20260504T123000
UID:2524IK1413-20260504T083000@VHSOBERES NAGOLDTAL
SUMMARY:141. Integrationskurs Modul 3 (2524IK1413) 
LOCATION:Evangelisches Gemeindehaus, Lemberg, Remigiusweg 3 , 72202 Nagold
END:VEVENT
BEGIN:VEVENT
DTSTAMP:20260422T211855
DTSTART;TZID=Europe/Berlin:20260505T083000
DTEND;TZID=Europe/Berlin:20260505T123000
UID:2524IK1413-20260505T083000@VHSOBERES NAGOLDTAL
SUMMARY:141. Integrationskurs Modul 3 (2524IK1413) 
LOCATION:Evangelisches Gemeindehaus, Lemberg, Remigiusweg 3 , 72202 Nagold
END:VEVENT
END:VCALENDAR