BEGIN:VCALENDAR
PRODID:http://www.kufer.de/kuferweb / DE
VERSION:2.0
METHOD:PUBLISH
CALSCALE:GREGORIAN
X-WR-TIMEZONE:Europe/Berlin
BEGIN:VTIMEZONE
TZID:Europe/Berlin
X-LIC-LOCATION:Europe/Berlin
BEGIN:DAYLIGHT
TZOFFSETFROM:+0100
TZOFFSETTO:+0200
TZNAME:CEST
DTSTART;TZID=Europe/Berlin:19700329T020000
RRULE:FREQ=YEARLY;INTERVAL=1;BYDAY=-1SU;BYMONTH=3
END:DAYLIGHT
BEGIN:STANDARD
TZOFFSETFROM:+0200
TZOFFSETTO:+0100
TZNAME:CET
DTSTART;TZID=Europe/Berlin:19701025T030000
RRULE:FREQ=YEARLY;INTERVAL=1;BYDAY=-1SU;BYMONTH=10
END:STANDARD
END:VTIMEZONE
BEGIN:VEVENT
DTSTAMP:20260422T140956
DTSTART;TZID=Europe/Berlin:20260506T083000
DTEND;TZID=Europe/Berlin:20260506T123000
UID:2524IK1414-20260506T083000@VHSOBERES NAGOLDTAL
SUMMARY:141. Integrationskurs Modul 4 (2524IK1414) 
LOCATION:Evangelisches Gemeindehaus, Lemberg, Remigiusweg 3 , 72202 Nagold
END:VEVENT
BEGIN:VEVENT
DTSTAMP:20260422T140956
DTSTART;TZID=Europe/Berlin:20260507T083000
DTEND;TZID=Europe/Berlin:20260507T123000
UID:2524IK1414-20260507T083000@VHSOBERES NAGOLDTAL
SUMMARY:141. Integrationskurs Modul 4 (2524IK1414) 
LOCATION:Evangelisches Gemeindehaus, Lemberg, Remigiusweg 3 , 72202 Nagold
END:VEVENT
BEGIN:VEVENT
DTSTAMP:20260422T140956
DTSTART;TZID=Europe/Berlin:20260508T083000
DTEND;TZID=Europe/Berlin:20260508T123000
UID:2524IK1414-20260508T083000@VHSOBERES NAGOLDTAL
SUMMARY:141. Integrationskurs Modul 4 (2524IK1414) 
LOCATION:Evangelisches Gemeindehaus, Lemberg, Remigiusweg 3 , 72202 Nagold
END:VEVENT
BEGIN:VEVENT
DTSTAMP:20260422T140956
DTSTART;TZID=Europe/Berlin:20260511T083000
DTEND;TZID=Europe/Berlin:20260511T123000
UID:2524IK1414-20260511T083000@VHSOBERES NAGOLDTAL
SUMMARY:141. Integrationskurs Modul 4 (2524IK1414) 
LOCATION:Evangelisches Gemeindehaus, Lemberg, Remigiusweg 3 , 72202 Nagold
END:VEVENT
BEGIN:VEVENT
DTSTAMP:20260422T140956
DTSTART;TZID=Europe/Berlin:20260512T083000
DTEND;TZID=Europe/Berlin:20260512T123000
UID:2524IK1414-20260512T083000@VHSOBERES NAGOLDTAL
SUMMARY:141. Integrationskurs Modul 4 (2524IK1414) 
LOCATION:Evangelisches Gemeindehaus, Lemberg, Remigiusweg 3 , 72202 Nagold
END:VEVENT
BEGIN:VEVENT
DTSTAMP:20260422T140956
DTSTART;TZID=Europe/Berlin:20260513T083000
DTEND;TZID=Europe/Berlin:20260513T123000
UID:2524IK1414-20260513T083000@VHSOBERES NAGOLDTAL
SUMMARY:141. Integrationskurs Modul 4 (2524IK1414) 
LOCATION:Evangelisches Gemeindehaus, Lemberg, Remigiusweg 3 , 72202 Nagold
END:VEVENT
BEGIN:VEVENT
DTSTAMP:20260422T140956
DTSTART;TZID=Europe/Berlin:20260518T083000
DTEND;TZID=Europe/Berlin:20260518T123000
UID:2524IK1414-20260518T083000@VHSOBERES NAGOLDTAL
SUMMARY:141. Integrationskurs Modul 4 (2524IK1414) 
LOCATION:Evangelisches Gemeindehaus, Lemberg, Remigiusweg 3 , 72202 Nagold
END:VEVENT
BEGIN:VEVENT
DTSTAMP:20260422T140956
DTSTART;TZID=Europe/Berlin:20260519T083000
DTEND;TZID=Europe/Berlin:20260519T123000
UID:2524IK1414-20260519T083000@VHSOBERES NAGOLDTAL
SUMMARY:141. Integrationskurs Modul 4 (2524IK1414) 
LOCATION:Evangelisches Gemeindehaus, Lemberg, Remigiusweg 3 , 72202 Nagold
END:VEVENT
BEGIN:VEVENT
DTSTAMP:20260422T140956
DTSTART;TZID=Europe/Berlin:20260520T083000
DTEND;TZID=Europe/Berlin:20260520T123000
UID:2524IK1414-20260520T083000@VHSOBERES NAGOLDTAL
SUMMARY:141. Integrationskurs Modul 4 (2524IK1414) 
LOCATION:Evangelisches Gemeindehaus, Lemberg, Remigiusweg 3 , 72202 Nagold
END:VEVENT
BEGIN:VEVENT
DTSTAMP:20260422T140956
DTSTART;TZID=Europe/Berlin:20260521T083000
DTEND;TZID=Europe/Berlin:20260521T123000
UID:2524IK1414-20260521T083000@VHSOBERES NAGOLDTAL
SUMMARY:141. Integrationskurs Modul 4 (2524IK1414) 
LOCATION:Evangelisches Gemeindehaus, Lemberg, Remigiusweg 3 , 72202 Nagold
END:VEVENT
BEGIN:VEVENT
DTSTAMP:20260422T140956
DTSTART;TZID=Europe/Berlin:20260522T083000
DTEND;TZID=Europe/Berlin:20260522T123000
UID:2524IK1414-20260522T083000@VHSOBERES NAGOLDTAL
SUMMARY:141. Integrationskurs Modul 4 (2524IK1414) 
LOCATION:Evangelisches Gemeindehaus, Lemberg, Remigiusweg 3 , 72202 Nagold
END:VEVENT
BEGIN:VEVENT
DTSTAMP:20260422T140956
DTSTART;TZID=Europe/Berlin:20260612T083000
DTEND;TZID=Europe/Berlin:20260612T123000
UID:2524IK1414-20260612T083000@VHSOBERES NAGOLDTAL
SUMMARY:141. Integrationskurs Modul 4 (2524IK1414) 
LOCATION:Evangelisches Gemeindehaus, Lemberg, Remigiusweg 3 , 72202 Nagold
END:VEVENT
BEGIN:VEVENT
DTSTAMP:20260422T140956
DTSTART;TZID=Europe/Berlin:20260615T083000
DTEND;TZID=Europe/Berlin:20260615T123000
UID:2524IK1414-20260615T083000@VHSOBERES NAGOLDTAL
SUMMARY:141. Integrationskurs Modul 4 (2524IK1414) 
LOCATION:Evangelisches Gemeindehaus, Lemberg, Remigiusweg 3 , 72202 Nagold
END:VEVENT
BEGIN:VEVENT
DTSTAMP:20260422T140956
DTSTART;TZID=Europe/Berlin:20260616T083000
DTEND;TZID=Europe/Berlin:20260616T123000
UID:2524IK1414-20260616T083000@VHSOBERES NAGOLDTAL
SUMMARY:141. Integrationskurs Modul 4 (2524IK1414) 
LOCATION:Evangelisches Gemeindehaus, Lemberg, Remigiusweg 3 , 72202 Nagold
END:VEVENT
BEGIN:VEVENT
DTSTAMP:20260422T140956
DTSTART;TZID=Europe/Berlin:20260617T083000
DTEND;TZID=Europe/Berlin:20260617T123000
UID:2524IK1414-20260617T083000@VHSOBERES NAGOLDTAL
SUMMARY:141. Integrationskurs Modul 4 (2524IK1414) 
LOCATION:Evangelisches Gemeindehaus, Lemberg, Remigiusweg 3 , 72202 Nagold
END:VEVENT
BEGIN:VEVENT
DTSTAMP:20260422T140956
DTSTART;TZID=Europe/Berlin:20260618T083000
DTEND;TZID=Europe/Berlin:20260618T123000
UID:2524IK1414-20260618T083000@VHSOBERES NAGOLDTAL
SUMMARY:141. Integrationskurs Modul 4 (2524IK1414) 
LOCATION:Evangelisches Gemeindehaus, Lemberg, Remigiusweg 3 , 72202 Nagold
END:VEVENT
BEGIN:VEVENT
DTSTAMP:20260422T140956
DTSTART;TZID=Europe/Berlin:20260619T083000
DTEND;TZID=Europe/Berlin:20260619T123000
UID:2524IK1414-20260619T083000@VHSOBERES NAGOLDTAL
SUMMARY:141. Integrationskurs Modul 4 (2524IK1414) 
LOCATION:Evangelisches Gemeindehaus, Lemberg, Remigiusweg 3 , 72202 Nagold
END:VEVENT
BEGIN:VEVENT
DTSTAMP:20260422T140956
DTSTART;TZID=Europe/Berlin:20260622T083000
DTEND;TZID=Europe/Berlin:20260622T123000
UID:2524IK1414-20260622T083000@VHSOBERES NAGOLDTAL
SUMMARY:141. Integrationskurs Modul 4 (2524IK1414) 
LOCATION:Evangelisches Gemeindehaus, Lemberg, Remigiusweg 3 , 72202 Nagold
END:VEVENT
BEGIN:VEVENT
DTSTAMP:20260422T140956
DTSTART;TZID=Europe/Berlin:20260623T083000
DTEND;TZID=Europe/Berlin:20260623T123000
UID:2524IK1414-20260623T083000@VHSOBERES NAGOLDTAL
SUMMARY:141. Integrationskurs Modul 4 (2524IK1414) 
LOCATION:Evangelisches Gemeindehaus, Lemberg, Remigiusweg 3 , 72202 Nagold
END:VEVENT
BEGIN:VEVENT
DTSTAMP:20260422T140956
DTSTART;TZID=Europe/Berlin:20260624T083000
DTEND;TZID=Europe/Berlin:20260624T123000
UID:2524IK1414-20260624T083000@VHSOBERES NAGOLDTAL
SUMMARY:141. Integrationskurs Modul 4 (2524IK1414) 
LOCATION:Evangelisches Gemeindehaus, Lemberg, Remigiusweg 3 , 72202 Nagold
END:VEVENT
END:VCALENDAR