BEGIN:VCALENDAR
PRODID:http://www.kufer.de/kuferweb / DE
VERSION:2.0
METHOD:PUBLISH
CALSCALE:GREGORIAN
X-WR-TIMEZONE:Europe/Berlin
BEGIN:VTIMEZONE
TZID:Europe/Berlin
X-LIC-LOCATION:Europe/Berlin
BEGIN:DAYLIGHT
TZOFFSETFROM:+0100
TZOFFSETTO:+0200
TZNAME:CEST
DTSTART;TZID=Europe/Berlin:19700329T020000
RRULE:FREQ=YEARLY;INTERVAL=1;BYDAY=-1SU;BYMONTH=3
END:DAYLIGHT
BEGIN:STANDARD
TZOFFSETFROM:+0200
TZOFFSETTO:+0100
TZNAME:CET
DTSTART;TZID=Europe/Berlin:19701025T030000
RRULE:FREQ=YEARLY;INTERVAL=1;BYDAY=-1SU;BYMONTH=10
END:STANDARD
END:VTIMEZONE
BEGIN:VEVENT
DTSTAMP:20260422T211850
DTSTART;TZID=Europe/Berlin:20260723T083000
DTEND;TZID=Europe/Berlin:20260723T123000
UID:2524IK1416-20260723T083000@VHSOBERES NAGOLDTAL
SUMMARY:141. Integrationskurs Modul 6 (2524IK1416) 
LOCATION:Evangelisches Gemeindehaus, Lemberg, Remigiusweg 3 , 72202 Nagold
END:VEVENT
BEGIN:VEVENT
DTSTAMP:20260422T211850
DTSTART;TZID=Europe/Berlin:20260724T083000
DTEND;TZID=Europe/Berlin:20260724T123000
UID:2524IK1416-20260724T083000@VHSOBERES NAGOLDTAL
SUMMARY:141. Integrationskurs Modul 6 (2524IK1416) 
LOCATION:Evangelisches Gemeindehaus, Lemberg, Remigiusweg 3 , 72202 Nagold
END:VEVENT
BEGIN:VEVENT
DTSTAMP:20260422T211850
DTSTART;TZID=Europe/Berlin:20260727T083000
DTEND;TZID=Europe/Berlin:20260727T123000
UID:2524IK1416-20260727T083000@VHSOBERES NAGOLDTAL
SUMMARY:141. Integrationskurs Modul 6 (2524IK1416) 
LOCATION:Evangelisches Gemeindehaus, Lemberg, Remigiusweg 3 , 72202 Nagold
END:VEVENT
BEGIN:VEVENT
DTSTAMP:20260422T211850
DTSTART;TZID=Europe/Berlin:20260728T083000
DTEND;TZID=Europe/Berlin:20260728T123000
UID:2524IK1416-20260728T083000@VHSOBERES NAGOLDTAL
SUMMARY:141. Integrationskurs Modul 6 (2524IK1416) 
LOCATION:Evangelisches Gemeindehaus, Lemberg, Remigiusweg 3 , 72202 Nagold
END:VEVENT
BEGIN:VEVENT
DTSTAMP:20260422T211850
DTSTART;TZID=Europe/Berlin:20260729T083000
DTEND;TZID=Europe/Berlin:20260729T123000
UID:2524IK1416-20260729T083000@VHSOBERES NAGOLDTAL
SUMMARY:141. Integrationskurs Modul 6 (2524IK1416) 
LOCATION:Evangelisches Gemeindehaus, Lemberg, Remigiusweg 3 , 72202 Nagold
END:VEVENT
BEGIN:VEVENT
DTSTAMP:20260422T211850
DTSTART;TZID=Europe/Berlin:20260914T083000
DTEND;TZID=Europe/Berlin:20260914T123000
UID:2524IK1416-20260914T083000@VHSOBERES NAGOLDTAL
SUMMARY:141. Integrationskurs Modul 6 (2524IK1416) 
LOCATION:Volkshochschule Nagold: EG1, Bahnhofstraße 41, 72202 Nagold
END:VEVENT
BEGIN:VEVENT
DTSTAMP:20260422T211850
DTSTART;TZID=Europe/Berlin:20260915T083000
DTEND;TZID=Europe/Berlin:20260915T123000
UID:2524IK1416-20260915T083000@VHSOBERES NAGOLDTAL
SUMMARY:141. Integrationskurs Modul 6 (2524IK1416) 
LOCATION:Volkshochschule Nagold: EG1, Bahnhofstraße 41, 72202 Nagold
END:VEVENT
BEGIN:VEVENT
DTSTAMP:20260422T211850
DTSTART;TZID=Europe/Berlin:20260916T083000
DTEND;TZID=Europe/Berlin:20260916T123000
UID:2524IK1416-20260916T083000@VHSOBERES NAGOLDTAL
SUMMARY:141. Integrationskurs Modul 6 (2524IK1416) 
LOCATION:Volkshochschule Nagold: EG1, Bahnhofstraße 41, 72202 Nagold
END:VEVENT
BEGIN:VEVENT
DTSTAMP:20260422T211850
DTSTART;TZID=Europe/Berlin:20260917T083000
DTEND;TZID=Europe/Berlin:20260917T123000
UID:2524IK1416-20260917T083000@VHSOBERES NAGOLDTAL
SUMMARY:141. Integrationskurs Modul 6 (2524IK1416) 
LOCATION:Volkshochschule Nagold: EG1, Bahnhofstraße 41, 72202 Nagold
END:VEVENT
BEGIN:VEVENT
DTSTAMP:20260422T211850
DTSTART;TZID=Europe/Berlin:20260918T083000
DTEND;TZID=Europe/Berlin:20260918T123000
UID:2524IK1416-20260918T083000@VHSOBERES NAGOLDTAL
SUMMARY:141. Integrationskurs Modul 6 (2524IK1416) 
LOCATION:Volkshochschule Nagold: EG1, Bahnhofstraße 41, 72202 Nagold
END:VEVENT
BEGIN:VEVENT
DTSTAMP:20260422T211850
DTSTART;TZID=Europe/Berlin:20260921T083000
DTEND;TZID=Europe/Berlin:20260921T123000
UID:2524IK1416-20260921T083000@VHSOBERES NAGOLDTAL
SUMMARY:141. Integrationskurs Modul 6 (2524IK1416) 
LOCATION:Volkshochschule Nagold: EG1, Bahnhofstraße 41, 72202 Nagold
END:VEVENT
BEGIN:VEVENT
DTSTAMP:20260422T211850
DTSTART;TZID=Europe/Berlin:20260922T083000
DTEND;TZID=Europe/Berlin:20260922T123000
UID:2524IK1416-20260922T083000@VHSOBERES NAGOLDTAL
SUMMARY:141. Integrationskurs Modul 6 (2524IK1416) 
LOCATION:Volkshochschule Nagold: EG1, Bahnhofstraße 41, 72202 Nagold
END:VEVENT
BEGIN:VEVENT
DTSTAMP:20260422T211850
DTSTART;TZID=Europe/Berlin:20260923T083000
DTEND;TZID=Europe/Berlin:20260923T123000
UID:2524IK1416-20260923T083000@VHSOBERES NAGOLDTAL
SUMMARY:141. Integrationskurs Modul 6 (2524IK1416) 
LOCATION:Volkshochschule Nagold: EG1, Bahnhofstraße 41, 72202 Nagold
END:VEVENT
BEGIN:VEVENT
DTSTAMP:20260422T211850
DTSTART;TZID=Europe/Berlin:20260924T083000
DTEND;TZID=Europe/Berlin:20260924T123000
UID:2524IK1416-20260924T083000@VHSOBERES NAGOLDTAL
SUMMARY:141. Integrationskurs Modul 6 (2524IK1416) 
LOCATION:Volkshochschule Nagold: EG1, Bahnhofstraße 41, 72202 Nagold
END:VEVENT
BEGIN:VEVENT
DTSTAMP:20260422T211850
DTSTART;TZID=Europe/Berlin:20260925T083000
DTEND;TZID=Europe/Berlin:20260925T123000
UID:2524IK1416-20260925T083000@VHSOBERES NAGOLDTAL
SUMMARY:141. Integrationskurs Modul 6 (2524IK1416) 
LOCATION:Volkshochschule Nagold: EG1, Bahnhofstraße 41, 72202 Nagold
END:VEVENT
BEGIN:VEVENT
DTSTAMP:20260422T211850
DTSTART;TZID=Europe/Berlin:20260928T083000
DTEND;TZID=Europe/Berlin:20260928T123000
UID:2524IK1416-20260928T083000@VHSOBERES NAGOLDTAL
SUMMARY:141. Integrationskurs Modul 6 (2524IK1416) 
LOCATION:Volkshochschule Nagold: EG1, Bahnhofstraße 41, 72202 Nagold
END:VEVENT
BEGIN:VEVENT
DTSTAMP:20260422T211850
DTSTART;TZID=Europe/Berlin:20260929T083000
DTEND;TZID=Europe/Berlin:20260929T123000
UID:2524IK1416-20260929T083000@VHSOBERES NAGOLDTAL
SUMMARY:141. Integrationskurs Modul 6 (2524IK1416) 
LOCATION:Volkshochschule Nagold: EG1, Bahnhofstraße 41, 72202 Nagold
END:VEVENT
BEGIN:VEVENT
DTSTAMP:20260422T211850
DTSTART;TZID=Europe/Berlin:20260930T083000
DTEND;TZID=Europe/Berlin:20260930T123000
UID:2524IK1416-20260930T083000@VHSOBERES NAGOLDTAL
SUMMARY:141. Integrationskurs Modul 6 (2524IK1416) 
LOCATION:Volkshochschule Nagold: EG1, Bahnhofstraße 41, 72202 Nagold
END:VEVENT
BEGIN:VEVENT
DTSTAMP:20260422T211850
DTSTART;TZID=Europe/Berlin:20261001T083000
DTEND;TZID=Europe/Berlin:20261001T123000
UID:2524IK1416-20261001T083000@VHSOBERES NAGOLDTAL
SUMMARY:141. Integrationskurs Modul 6 (2524IK1416) 
LOCATION:Volkshochschule Nagold: EG1, Bahnhofstraße 41, 72202 Nagold
END:VEVENT
BEGIN:VEVENT
DTSTAMP:20260422T211850
DTSTART;TZID=Europe/Berlin:20261002T083000
DTEND;TZID=Europe/Berlin:20261002T123000
UID:2524IK1416-20261002T083000@VHSOBERES NAGOLDTAL
SUMMARY:141. Integrationskurs Modul 6 (2524IK1416) 
LOCATION:Volkshochschule Nagold: EG1, Bahnhofstraße 41, 72202 Nagold
END:VEVENT
END:VCALENDAR