BEGIN:VCALENDAR
PRODID:http://www.kufer.de/kuferweb / DE
VERSION:2.0
METHOD:PUBLISH
CALSCALE:GREGORIAN
X-WR-TIMEZONE:Europe/Berlin
BEGIN:VTIMEZONE
TZID:Europe/Berlin
X-LIC-LOCATION:Europe/Berlin
BEGIN:DAYLIGHT
TZOFFSETFROM:+0100
TZOFFSETTO:+0200
TZNAME:CEST
DTSTART;TZID=Europe/Berlin:19700329T020000
RRULE:FREQ=YEARLY;INTERVAL=1;BYDAY=-1SU;BYMONTH=3
END:DAYLIGHT
BEGIN:STANDARD
TZOFFSETFROM:+0200
TZOFFSETTO:+0100
TZNAME:CET
DTSTART;TZID=Europe/Berlin:19701025T030000
RRULE:FREQ=YEARLY;INTERVAL=1;BYDAY=-1SU;BYMONTH=10
END:STANDARD
END:VTIMEZONE
BEGIN:VEVENT
DTSTAMP:20260425T172558
DTSTART;TZID=Europe/Berlin:20250929T161500
DTEND;TZID=Europe/Berlin:20250929T174500
UID:252JKS102-20250929T161500@VHSOBERES NAGOLDTAL
SUMMARY:Kunstwerkstatt I - Künstlerische Frühförderung ab 4 Jahren (252JKS102) 
LOCATION:Jugendkunstschule Nagold: Kunstraum, Lindachstraße 14, 72202 Nagold
END:VEVENT
BEGIN:VEVENT
DTSTAMP:20260425T172558
DTSTART;TZID=Europe/Berlin:20251006T161500
DTEND;TZID=Europe/Berlin:20251006T174500
UID:252JKS102-20251006T161500@VHSOBERES NAGOLDTAL
SUMMARY:Kunstwerkstatt I - Künstlerische Frühförderung ab 4 Jahren (252JKS102) 
LOCATION:Jugendkunstschule Nagold: Kunstraum, Lindachstraße 14, 72202 Nagold
END:VEVENT
BEGIN:VEVENT
DTSTAMP:20260425T172558
DTSTART;TZID=Europe/Berlin:20251013T161500
DTEND;TZID=Europe/Berlin:20251013T174500
UID:252JKS102-20251013T161500@VHSOBERES NAGOLDTAL
SUMMARY:Kunstwerkstatt I - Künstlerische Frühförderung ab 4 Jahren (252JKS102) 
LOCATION:Jugendkunstschule Nagold: Kunstraum, Lindachstraße 14, 72202 Nagold
END:VEVENT
BEGIN:VEVENT
DTSTAMP:20260425T172558
DTSTART;TZID=Europe/Berlin:20251020T161500
DTEND;TZID=Europe/Berlin:20251020T174500
UID:252JKS102-20251020T161500@VHSOBERES NAGOLDTAL
SUMMARY:Kunstwerkstatt I - Künstlerische Frühförderung ab 4 Jahren (252JKS102) 
LOCATION:Jugendkunstschule Nagold: Kunstraum, Lindachstraße 14, 72202 Nagold
END:VEVENT
BEGIN:VEVENT
DTSTAMP:20260425T172558
DTSTART;TZID=Europe/Berlin:20251103T161500
DTEND;TZID=Europe/Berlin:20251103T174500
UID:252JKS102-20251103T161500@VHSOBERES NAGOLDTAL
SUMMARY:Kunstwerkstatt I - Künstlerische Frühförderung ab 4 Jahren (252JKS102) 
LOCATION:Jugendkunstschule Nagold: Kunstraum, Lindachstraße 14, 72202 Nagold
END:VEVENT
BEGIN:VEVENT
DTSTAMP:20260425T172558
DTSTART;TZID=Europe/Berlin:20251110T161500
DTEND;TZID=Europe/Berlin:20251110T174500
UID:252JKS102-20251110T161500@VHSOBERES NAGOLDTAL
SUMMARY:Kunstwerkstatt I - Künstlerische Frühförderung ab 4 Jahren (252JKS102) 
LOCATION:Jugendkunstschule Nagold: Kunstraum, Lindachstraße 14, 72202 Nagold
END:VEVENT
BEGIN:VEVENT
DTSTAMP:20260425T172558
DTSTART;TZID=Europe/Berlin:20251117T161500
DTEND;TZID=Europe/Berlin:20251117T174500
UID:252JKS102-20251117T161500@VHSOBERES NAGOLDTAL
SUMMARY:Kunstwerkstatt I - Künstlerische Frühförderung ab 4 Jahren (252JKS102) 
LOCATION:Jugendkunstschule Nagold: Kunstraum, Lindachstraße 14, 72202 Nagold
END:VEVENT
BEGIN:VEVENT
DTSTAMP:20260425T172558
DTSTART;TZID=Europe/Berlin:20251124T161500
DTEND;TZID=Europe/Berlin:20251124T174500
UID:252JKS102-20251124T161500@VHSOBERES NAGOLDTAL
SUMMARY:Kunstwerkstatt I - Künstlerische Frühförderung ab 4 Jahren (252JKS102) 
LOCATION:Jugendkunstschule Nagold: Kunstraum, Lindachstraße 14, 72202 Nagold
END:VEVENT
BEGIN:VEVENT
DTSTAMP:20260425T172558
DTSTART;TZID=Europe/Berlin:20251201T161500
DTEND;TZID=Europe/Berlin:20251201T174500
UID:252JKS102-20251201T161500@VHSOBERES NAGOLDTAL
SUMMARY:Kunstwerkstatt I - Künstlerische Frühförderung ab 4 Jahren (252JKS102) 
LOCATION:Jugendkunstschule Nagold: Kunstraum, Lindachstraße 14, 72202 Nagold
END:VEVENT
BEGIN:VEVENT
DTSTAMP:20260425T172558
DTSTART;TZID=Europe/Berlin:20251215T161500
DTEND;TZID=Europe/Berlin:20251215T174500
UID:252JKS102-20251215T161500@VHSOBERES NAGOLDTAL
SUMMARY:Kunstwerkstatt I - Künstlerische Frühförderung ab 4 Jahren (252JKS102) 
LOCATION:Jugendkunstschule Nagold: Kunstraum, Lindachstraße 14, 72202 Nagold
END:VEVENT
BEGIN:VEVENT
DTSTAMP:20260425T172558
DTSTART;TZID=Europe/Berlin:20260112T161500
DTEND;TZID=Europe/Berlin:20260112T174500
UID:252JKS102-20260112T161500@VHSOBERES NAGOLDTAL
SUMMARY:Kunstwerkstatt I - Künstlerische Frühförderung ab 4 Jahren (252JKS102) 
LOCATION:Jugendkunstschule Nagold: Kunstraum, Lindachstraße 14, 72202 Nagold
END:VEVENT
BEGIN:VEVENT
DTSTAMP:20260425T172558
DTSTART;TZID=Europe/Berlin:20260119T161500
DTEND;TZID=Europe/Berlin:20260119T174500
UID:252JKS102-20260119T161500@VHSOBERES NAGOLDTAL
SUMMARY:Kunstwerkstatt I - Künstlerische Frühförderung ab 4 Jahren (252JKS102) 
LOCATION:Jugendkunstschule Nagold: Kunstraum, Lindachstraße 14, 72202 Nagold
END:VEVENT
BEGIN:VEVENT
DTSTAMP:20260425T172558
DTSTART;TZID=Europe/Berlin:20260202T161500
DTEND;TZID=Europe/Berlin:20260202T174500
UID:252JKS102-20260202T161500@VHSOBERES NAGOLDTAL
SUMMARY:Kunstwerkstatt I - Künstlerische Frühförderung ab 4 Jahren (252JKS102) 
LOCATION:Jugendkunstschule Nagold: Kunstraum, Lindachstraße 14, 72202 Nagold
END:VEVENT
BEGIN:VEVENT
DTSTAMP:20260425T172558
DTSTART;TZID=Europe/Berlin:20260209T161500
DTEND;TZID=Europe/Berlin:20260209T174500
UID:252JKS102-20260209T161500@VHSOBERES NAGOLDTAL
SUMMARY:Kunstwerkstatt I - Künstlerische Frühförderung ab 4 Jahren (252JKS102) 
LOCATION:Jugendkunstschule Nagold: Kunstraum, Lindachstraße 14, 72202 Nagold
END:VEVENT
BEGIN:VEVENT
DTSTAMP:20260425T172558
DTSTART;TZID=Europe/Berlin:20260223T161500
DTEND;TZID=Europe/Berlin:20260223T174500
UID:252JKS102-20260223T161500@VHSOBERES NAGOLDTAL
SUMMARY:Kunstwerkstatt I - Künstlerische Frühförderung ab 4 Jahren (252JKS102) 
LOCATION:Jugendkunstschule Nagold: Kunstraum, Lindachstraße 14, 72202 Nagold
END:VEVENT
BEGIN:VEVENT
DTSTAMP:20260425T172558
DTSTART;TZID=Europe/Berlin:20260302T161500
DTEND;TZID=Europe/Berlin:20260302T174500
UID:252JKS102-20260302T161500@VHSOBERES NAGOLDTAL
SUMMARY:Kunstwerkstatt I - Künstlerische Frühförderung ab 4 Jahren (252JKS102) 
LOCATION:Jugendkunstschule Nagold: Kunstraum, Lindachstraße 14, 72202 Nagold
END:VEVENT
BEGIN:VEVENT
DTSTAMP:20260425T172558
DTSTART;TZID=Europe/Berlin:20260309T161500
DTEND;TZID=Europe/Berlin:20260309T174500
UID:252JKS102-20260309T161500@VHSOBERES NAGOLDTAL
SUMMARY:Kunstwerkstatt I - Künstlerische Frühförderung ab 4 Jahren (252JKS102) 
LOCATION:Jugendkunstschule Nagold: Kunstraum, Lindachstraße 14, 72202 Nagold
END:VEVENT
BEGIN:VEVENT
DTSTAMP:20260425T172558
DTSTART;TZID=Europe/Berlin:20260316T161500
DTEND;TZID=Europe/Berlin:20260316T174500
UID:252JKS102-20260316T161500@VHSOBERES NAGOLDTAL
SUMMARY:Kunstwerkstatt I - Künstlerische Frühförderung ab 4 Jahren (252JKS102) 
LOCATION:Jugendkunstschule Nagold: Kunstraum, Lindachstraße 14, 72202 Nagold
END:VEVENT
BEGIN:VEVENT
DTSTAMP:20260425T172558
DTSTART;TZID=Europe/Berlin:20260323T161500
DTEND;TZID=Europe/Berlin:20260323T174500
UID:252JKS102-20260323T161500@VHSOBERES NAGOLDTAL
SUMMARY:Kunstwerkstatt I - Künstlerische Frühförderung ab 4 Jahren (252JKS102) 
LOCATION:Jugendkunstschule Nagold: Kunstraum, Lindachstraße 14, 72202 Nagold
END:VEVENT
BEGIN:VEVENT
DTSTAMP:20260425T172558
DTSTART;TZID=Europe/Berlin:20260413T161500
DTEND;TZID=Europe/Berlin:20260413T174500
UID:252JKS102-20260413T161500@VHSOBERES NAGOLDTAL
SUMMARY:Kunstwerkstatt I - Künstlerische Frühförderung ab 4 Jahren (252JKS102) 
LOCATION:Jugendkunstschule Nagold: Kunstraum, Lindachstraße 14, 72202 Nagold
END:VEVENT
BEGIN:VEVENT
DTSTAMP:20260425T172558
DTSTART;TZID=Europe/Berlin:20260420T161500
DTEND;TZID=Europe/Berlin:20260420T174500
UID:252JKS102-20260420T161500@VHSOBERES NAGOLDTAL
SUMMARY:Kunstwerkstatt I - Künstlerische Frühförderung ab 4 Jahren (252JKS102) 
LOCATION:Jugendkunstschule Nagold: Kunstraum, Lindachstraße 14, 72202 Nagold
END:VEVENT
BEGIN:VEVENT
DTSTAMP:20260425T172558
DTSTART;TZID=Europe/Berlin:20260427T161500
DTEND;TZID=Europe/Berlin:20260427T174500
UID:252JKS102-20260427T161500@VHSOBERES NAGOLDTAL
SUMMARY:Kunstwerkstatt I - Künstlerische Frühförderung ab 4 Jahren (252JKS102) 
LOCATION:Jugendkunstschule Nagold: Kunstraum, Lindachstraße 14, 72202 Nagold
END:VEVENT
BEGIN:VEVENT
DTSTAMP:20260425T172558
DTSTART;TZID=Europe/Berlin:20260504T161500
DTEND;TZID=Europe/Berlin:20260504T174500
UID:252JKS102-20260504T161500@VHSOBERES NAGOLDTAL
SUMMARY:Kunstwerkstatt I - Künstlerische Frühförderung ab 4 Jahren (252JKS102) 
LOCATION:Jugendkunstschule Nagold: Kunstraum, Lindachstraße 14, 72202 Nagold
END:VEVENT
BEGIN:VEVENT
DTSTAMP:20260425T172558
DTSTART;TZID=Europe/Berlin:20260511T161500
DTEND;TZID=Europe/Berlin:20260511T174500
UID:252JKS102-20260511T161500@VHSOBERES NAGOLDTAL
SUMMARY:Kunstwerkstatt I - Künstlerische Frühförderung ab 4 Jahren (252JKS102) 
LOCATION:Jugendkunstschule Nagold: Kunstraum, Lindachstraße 14, 72202 Nagold
END:VEVENT
BEGIN:VEVENT
DTSTAMP:20260425T172558
DTSTART;TZID=Europe/Berlin:20260518T161500
DTEND;TZID=Europe/Berlin:20260518T174500
UID:252JKS102-20260518T161500@VHSOBERES NAGOLDTAL
SUMMARY:Kunstwerkstatt I - Künstlerische Frühförderung ab 4 Jahren (252JKS102) 
LOCATION:Jugendkunstschule Nagold: Kunstraum, Lindachstraße 14, 72202 Nagold
END:VEVENT
BEGIN:VEVENT
DTSTAMP:20260425T172558
DTSTART;TZID=Europe/Berlin:20260608T161500
DTEND;TZID=Europe/Berlin:20260608T174500
UID:252JKS102-20260608T161500@VHSOBERES NAGOLDTAL
SUMMARY:Kunstwerkstatt I - Künstlerische Frühförderung ab 4 Jahren (252JKS102) 
LOCATION:Jugendkunstschule Nagold: Kunstraum, Lindachstraße 14, 72202 Nagold
END:VEVENT
BEGIN:VEVENT
DTSTAMP:20260425T172558
DTSTART;TZID=Europe/Berlin:20260615T161500
DTEND;TZID=Europe/Berlin:20260615T174500
UID:252JKS102-20260615T161500@VHSOBERES NAGOLDTAL
SUMMARY:Kunstwerkstatt I - Künstlerische Frühförderung ab 4 Jahren (252JKS102) 
LOCATION:Jugendkunstschule Nagold: Kunstraum, Lindachstraße 14, 72202 Nagold
END:VEVENT
BEGIN:VEVENT
DTSTAMP:20260425T172558
DTSTART;TZID=Europe/Berlin:20260622T161500
DTEND;TZID=Europe/Berlin:20260622T174500
UID:252JKS102-20260622T161500@VHSOBERES NAGOLDTAL
SUMMARY:Kunstwerkstatt I - Künstlerische Frühförderung ab 4 Jahren (252JKS102) 
LOCATION:Jugendkunstschule Nagold: Kunstraum, Lindachstraße 14, 72202 Nagold
END:VEVENT
BEGIN:VEVENT
DTSTAMP:20260425T172558
DTSTART;TZID=Europe/Berlin:20260629T161500
DTEND;TZID=Europe/Berlin:20260629T174500
UID:252JKS102-20260629T161500@VHSOBERES NAGOLDTAL
SUMMARY:Kunstwerkstatt I - Künstlerische Frühförderung ab 4 Jahren (252JKS102) 
LOCATION:Jugendkunstschule Nagold: Kunstraum, Lindachstraße 14, 72202 Nagold
END:VEVENT
BEGIN:VEVENT
DTSTAMP:20260425T172558
DTSTART;TZID=Europe/Berlin:20260706T161500
DTEND;TZID=Europe/Berlin:20260706T174500
UID:252JKS102-20260706T161500@VHSOBERES NAGOLDTAL
SUMMARY:Kunstwerkstatt I - Künstlerische Frühförderung ab 4 Jahren (252JKS102) 
LOCATION:Jugendkunstschule Nagold: Kunstraum, Lindachstraße 14, 72202 Nagold
END:VEVENT
BEGIN:VEVENT
DTSTAMP:20260425T172558
DTSTART;TZID=Europe/Berlin:20260713T161500
DTEND;TZID=Europe/Berlin:20260713T174500
UID:252JKS102-20260713T161500@VHSOBERES NAGOLDTAL
SUMMARY:Kunstwerkstatt I - Künstlerische Frühförderung ab 4 Jahren (252JKS102) 
LOCATION:Jugendkunstschule Nagold: Kunstraum, Lindachstraße 14, 72202 Nagold
END:VEVENT
BEGIN:VEVENT
DTSTAMP:20260425T172558
DTSTART;TZID=Europe/Berlin:20260720T161500
DTEND;TZID=Europe/Berlin:20260720T174500
UID:252JKS102-20260720T161500@VHSOBERES NAGOLDTAL
SUMMARY:Kunstwerkstatt I - Künstlerische Frühförderung ab 4 Jahren (252JKS102) 
LOCATION:Jugendkunstschule Nagold: Kunstraum, Lindachstraße 14, 72202 Nagold
END:VEVENT
BEGIN:VEVENT
DTSTAMP:20260425T172558
DTSTART;TZID=Europe/Berlin:20260727T161500
DTEND;TZID=Europe/Berlin:20260727T174500
UID:252JKS102-20260727T161500@VHSOBERES NAGOLDTAL
SUMMARY:Kunstwerkstatt I - Künstlerische Frühförderung ab 4 Jahren (252JKS102) 
LOCATION:Jugendkunstschule Nagold: Kunstraum, Lindachstraße 14, 72202 Nagold
END:VEVENT
END:VCALENDAR