BEGIN:VCALENDAR
PRODID:http://www.kufer.de/kuferweb / DE
VERSION:2.0
METHOD:PUBLISH
CALSCALE:GREGORIAN
X-WR-TIMEZONE:Europe/Berlin
BEGIN:VTIMEZONE
TZID:Europe/Berlin
X-LIC-LOCATION:Europe/Berlin
BEGIN:DAYLIGHT
TZOFFSETFROM:+0100
TZOFFSETTO:+0200
TZNAME:CEST
DTSTART;TZID=Europe/Berlin:19700329T020000
RRULE:FREQ=YEARLY;INTERVAL=1;BYDAY=-1SU;BYMONTH=3
END:DAYLIGHT
BEGIN:STANDARD
TZOFFSETFROM:+0200
TZOFFSETTO:+0100
TZNAME:CET
DTSTART;TZID=Europe/Berlin:19701025T030000
RRULE:FREQ=YEARLY;INTERVAL=1;BYDAY=-1SU;BYMONTH=10
END:STANDARD
END:VTIMEZONE
BEGIN:VEVENT
DTSTAMP:20260422T152255
DTSTART;TZID=Europe/Berlin:20260405T140000
DTEND;TZID=Europe/Berlin:20260405T170000
UID:261100001-20260405T140000@VHSOBERES NAGOLDTAL
SUMMARY:50 Jahre vhson - Ausstellung zum Jubiläum 1976-2026 (261100001) 
LOCATION:Treffpunkt: siehe Infotext, , 
END:VEVENT
BEGIN:VEVENT
DTSTAMP:20260422T152255
DTSTART;TZID=Europe/Berlin:20260412T140000
DTEND;TZID=Europe/Berlin:20260412T170000
UID:261100001-20260412T140000@VHSOBERES NAGOLDTAL
SUMMARY:50 Jahre vhson - Ausstellung zum Jubiläum 1976-2026 (261100001) 
LOCATION:Treffpunkt: siehe Infotext, , 
END:VEVENT
BEGIN:VEVENT
DTSTAMP:20260422T152255
DTSTART;TZID=Europe/Berlin:20260419T140000
DTEND;TZID=Europe/Berlin:20260419T170000
UID:261100001-20260419T140000@VHSOBERES NAGOLDTAL
SUMMARY:50 Jahre vhson - Ausstellung zum Jubiläum 1976-2026 (261100001) 
LOCATION:Treffpunkt: siehe Infotext, , 
END:VEVENT
BEGIN:VEVENT
DTSTAMP:20260422T152255
DTSTART;TZID=Europe/Berlin:20260426T140000
DTEND;TZID=Europe/Berlin:20260426T170000
UID:261100001-20260426T140000@VHSOBERES NAGOLDTAL
SUMMARY:50 Jahre vhson - Ausstellung zum Jubiläum 1976-2026 (261100001) 
LOCATION:Treffpunkt: siehe Infotext, , 
END:VEVENT
BEGIN:VEVENT
DTSTAMP:20260422T152255
DTSTART;TZID=Europe/Berlin:20260501T140000
DTEND;TZID=Europe/Berlin:20260501T170000
UID:261100001-20260501T140000@VHSOBERES NAGOLDTAL
SUMMARY:50 Jahre vhson - Ausstellung zum Jubiläum 1976-2026 (261100001) 
LOCATION:Treffpunkt: siehe Infotext, , 
END:VEVENT
BEGIN:VEVENT
DTSTAMP:20260422T152255
DTSTART;TZID=Europe/Berlin:20260503T140000
DTEND;TZID=Europe/Berlin:20260503T170000
UID:261100001-20260503T140000@VHSOBERES NAGOLDTAL
SUMMARY:50 Jahre vhson - Ausstellung zum Jubiläum 1976-2026 (261100001) 
LOCATION:Treffpunkt: siehe Infotext, , 
END:VEVENT
BEGIN:VEVENT
DTSTAMP:20260422T152255
DTSTART;TZID=Europe/Berlin:20260510T140000
DTEND;TZID=Europe/Berlin:20260510T170000
UID:261100001-20260510T140000@VHSOBERES NAGOLDTAL
SUMMARY:50 Jahre vhson - Ausstellung zum Jubiläum 1976-2026 (261100001) 
LOCATION:Treffpunkt: siehe Infotext, , 
END:VEVENT
BEGIN:VEVENT
DTSTAMP:20260422T152255
DTSTART;TZID=Europe/Berlin:20260514T140000
DTEND;TZID=Europe/Berlin:20260514T170000
UID:261100001-20260514T140000@VHSOBERES NAGOLDTAL
SUMMARY:50 Jahre vhson - Ausstellung zum Jubiläum 1976-2026 (261100001) 
LOCATION:Treffpunkt: siehe Infotext, , 
END:VEVENT
BEGIN:VEVENT
DTSTAMP:20260422T152255
DTSTART;TZID=Europe/Berlin:20260517T140000
DTEND;TZID=Europe/Berlin:20260517T170000
UID:261100001-20260517T140000@VHSOBERES NAGOLDTAL
SUMMARY:50 Jahre vhson - Ausstellung zum Jubiläum 1976-2026 (261100001) 
LOCATION:Treffpunkt: siehe Infotext, , 
END:VEVENT
BEGIN:VEVENT
DTSTAMP:20260422T152255
DTSTART;TZID=Europe/Berlin:20260524T140000
DTEND;TZID=Europe/Berlin:20260524T170000
UID:261100001-20260524T140000@VHSOBERES NAGOLDTAL
SUMMARY:50 Jahre vhson - Ausstellung zum Jubiläum 1976-2026 (261100001) 
LOCATION:Treffpunkt: siehe Infotext, , 
END:VEVENT
BEGIN:VEVENT
DTSTAMP:20260422T152255
DTSTART;TZID=Europe/Berlin:20260525T140000
DTEND;TZID=Europe/Berlin:20260525T170000
UID:261100001-20260525T140000@VHSOBERES NAGOLDTAL
SUMMARY:50 Jahre vhson - Ausstellung zum Jubiläum 1976-2026 (261100001) 
LOCATION:Treffpunkt: siehe Infotext, , 
END:VEVENT
BEGIN:VEVENT
DTSTAMP:20260422T152255
DTSTART;TZID=Europe/Berlin:20260531T140000
DTEND;TZID=Europe/Berlin:20260531T170000
UID:261100001-20260531T140000@VHSOBERES NAGOLDTAL
SUMMARY:50 Jahre vhson - Ausstellung zum Jubiläum 1976-2026 (261100001) 
LOCATION:Treffpunkt: siehe Infotext, , 
END:VEVENT
BEGIN:VEVENT
DTSTAMP:20260422T152255
DTSTART;TZID=Europe/Berlin:20260604T140000
DTEND;TZID=Europe/Berlin:20260604T170000
UID:261100001-20260604T140000@VHSOBERES NAGOLDTAL
SUMMARY:50 Jahre vhson - Ausstellung zum Jubiläum 1976-2026 (261100001) 
LOCATION:Treffpunkt: siehe Infotext, , 
END:VEVENT
BEGIN:VEVENT
DTSTAMP:20260422T152255
DTSTART;TZID=Europe/Berlin:20260607T140000
DTEND;TZID=Europe/Berlin:20260607T170000
UID:261100001-20260607T140000@VHSOBERES NAGOLDTAL
SUMMARY:50 Jahre vhson - Ausstellung zum Jubiläum 1976-2026 (261100001) 
LOCATION:Treffpunkt: siehe Infotext, , 
END:VEVENT
BEGIN:VEVENT
DTSTAMP:20260422T152255
DTSTART;TZID=Europe/Berlin:20260614T140000
DTEND;TZID=Europe/Berlin:20260614T170000
UID:261100001-20260614T140000@VHSOBERES NAGOLDTAL
SUMMARY:50 Jahre vhson - Ausstellung zum Jubiläum 1976-2026 (261100001) 
LOCATION:Treffpunkt: siehe Infotext, , 
END:VEVENT
BEGIN:VEVENT
DTSTAMP:20260422T152255
DTSTART;TZID=Europe/Berlin:20260621T140000
DTEND;TZID=Europe/Berlin:20260621T170000
UID:261100001-20260621T140000@VHSOBERES NAGOLDTAL
SUMMARY:50 Jahre vhson - Ausstellung zum Jubiläum 1976-2026 (261100001) 
LOCATION:Treffpunkt: siehe Infotext, , 
END:VEVENT
BEGIN:VEVENT
DTSTAMP:20260422T152255
DTSTART;TZID=Europe/Berlin:20260628T140000
DTEND;TZID=Europe/Berlin:20260628T170000
UID:261100001-20260628T140000@VHSOBERES NAGOLDTAL
SUMMARY:50 Jahre vhson - Ausstellung zum Jubiläum 1976-2026 (261100001) 
LOCATION:Treffpunkt: siehe Infotext, , 
END:VEVENT
BEGIN:VEVENT
DTSTAMP:20260422T152255
DTSTART;TZID=Europe/Berlin:20260705T140000
DTEND;TZID=Europe/Berlin:20260705T170000
UID:261100001-20260705T140000@VHSOBERES NAGOLDTAL
SUMMARY:50 Jahre vhson - Ausstellung zum Jubiläum 1976-2026 (261100001) 
LOCATION:Treffpunkt: siehe Infotext, , 
END:VEVENT
BEGIN:VEVENT
DTSTAMP:20260422T152255
DTSTART;TZID=Europe/Berlin:20260712T140000
DTEND;TZID=Europe/Berlin:20260712T170000
UID:261100001-20260712T140000@VHSOBERES NAGOLDTAL
SUMMARY:50 Jahre vhson - Ausstellung zum Jubiläum 1976-2026 (261100001) 
LOCATION:Treffpunkt: siehe Infotext, , 
END:VEVENT
BEGIN:VEVENT
DTSTAMP:20260422T152255
DTSTART;TZID=Europe/Berlin:20260719T140000
DTEND;TZID=Europe/Berlin:20260719T170000
UID:261100001-20260719T140000@VHSOBERES NAGOLDTAL
SUMMARY:50 Jahre vhson - Ausstellung zum Jubiläum 1976-2026 (261100001) 
LOCATION:Treffpunkt: siehe Infotext, , 
END:VEVENT
BEGIN:VEVENT
DTSTAMP:20260422T152255
DTSTART;TZID=Europe/Berlin:20260726T140000
DTEND;TZID=Europe/Berlin:20260726T170000
UID:261100001-20260726T140000@VHSOBERES NAGOLDTAL
SUMMARY:50 Jahre vhson - Ausstellung zum Jubiläum 1976-2026 (261100001) 
LOCATION:Treffpunkt: siehe Infotext, , 
END:VEVENT
BEGIN:VEVENT
DTSTAMP:20260422T152255
DTSTART;TZID=Europe/Berlin:20260802T140000
DTEND;TZID=Europe/Berlin:20260802T170000
UID:261100001-20260802T140000@VHSOBERES NAGOLDTAL
SUMMARY:50 Jahre vhson - Ausstellung zum Jubiläum 1976-2026 (261100001) 
LOCATION:Treffpunkt: siehe Infotext, , 
END:VEVENT
BEGIN:VEVENT
DTSTAMP:20260422T152255
DTSTART;TZID=Europe/Berlin:20260809T140000
DTEND;TZID=Europe/Berlin:20260809T170000
UID:261100001-20260809T140000@VHSOBERES NAGOLDTAL
SUMMARY:50 Jahre vhson - Ausstellung zum Jubiläum 1976-2026 (261100001) 
LOCATION:Treffpunkt: siehe Infotext, , 
END:VEVENT
BEGIN:VEVENT
DTSTAMP:20260422T152255
DTSTART;TZID=Europe/Berlin:20260816T140000
DTEND;TZID=Europe/Berlin:20260816T170000
UID:261100001-20260816T140000@VHSOBERES NAGOLDTAL
SUMMARY:50 Jahre vhson - Ausstellung zum Jubiläum 1976-2026 (261100001) 
LOCATION:Treffpunkt: siehe Infotext, , 
END:VEVENT
BEGIN:VEVENT
DTSTAMP:20260422T152255
DTSTART;TZID=Europe/Berlin:20260823T140000
DTEND;TZID=Europe/Berlin:20260823T170000
UID:261100001-20260823T140000@VHSOBERES NAGOLDTAL
SUMMARY:50 Jahre vhson - Ausstellung zum Jubiläum 1976-2026 (261100001) 
LOCATION:Treffpunkt: siehe Infotext, , 
END:VEVENT
BEGIN:VEVENT
DTSTAMP:20260422T152255
DTSTART;TZID=Europe/Berlin:20260830T140000
DTEND;TZID=Europe/Berlin:20260830T170000
UID:261100001-20260830T140000@VHSOBERES NAGOLDTAL
SUMMARY:50 Jahre vhson - Ausstellung zum Jubiläum 1976-2026 (261100001) 
LOCATION:Treffpunkt: siehe Infotext, , 
END:VEVENT
BEGIN:VEVENT
DTSTAMP:20260422T152255
DTSTART;TZID=Europe/Berlin:20260906T140000
DTEND;TZID=Europe/Berlin:20260906T170000
UID:261100001-20260906T140000@VHSOBERES NAGOLDTAL
SUMMARY:50 Jahre vhson - Ausstellung zum Jubiläum 1976-2026 (261100001) 
LOCATION:Treffpunkt: siehe Infotext, , 
END:VEVENT
BEGIN:VEVENT
DTSTAMP:20260422T152255
DTSTART;TZID=Europe/Berlin:20260913T140000
DTEND;TZID=Europe/Berlin:20260913T170000
UID:261100001-20260913T140000@VHSOBERES NAGOLDTAL
SUMMARY:50 Jahre vhson - Ausstellung zum Jubiläum 1976-2026 (261100001) 
LOCATION:Treffpunkt: siehe Infotext, , 
END:VEVENT
BEGIN:VEVENT
DTSTAMP:20260422T152255
DTSTART;TZID=Europe/Berlin:20260920T140000
DTEND;TZID=Europe/Berlin:20260920T170000
UID:261100001-20260920T140000@VHSOBERES NAGOLDTAL
SUMMARY:50 Jahre vhson - Ausstellung zum Jubiläum 1976-2026 (261100001) 
LOCATION:Treffpunkt: siehe Infotext, , 
END:VEVENT
BEGIN:VEVENT
DTSTAMP:20260422T152255
DTSTART;TZID=Europe/Berlin:20260927T140000
DTEND;TZID=Europe/Berlin:20260927T170000
UID:261100001-20260927T140000@VHSOBERES NAGOLDTAL
SUMMARY:50 Jahre vhson - Ausstellung zum Jubiläum 1976-2026 (261100001) 
LOCATION:Treffpunkt: siehe Infotext, , 
END:VEVENT
BEGIN:VEVENT
DTSTAMP:20260422T152255
DTSTART;TZID=Europe/Berlin:20261003T140000
DTEND;TZID=Europe/Berlin:20261003T170000
UID:261100001-20261003T140000@VHSOBERES NAGOLDTAL
SUMMARY:50 Jahre vhson - Ausstellung zum Jubiläum 1976-2026 (261100001) 
LOCATION:Treffpunkt: siehe Infotext, , 
END:VEVENT
BEGIN:VEVENT
DTSTAMP:20260422T152255
DTSTART;TZID=Europe/Berlin:20261004T140000
DTEND;TZID=Europe/Berlin:20261004T170000
UID:261100001-20261004T140000@VHSOBERES NAGOLDTAL
SUMMARY:50 Jahre vhson - Ausstellung zum Jubiläum 1976-2026 (261100001) 
LOCATION:Treffpunkt: siehe Infotext, , 
END:VEVENT
BEGIN:VEVENT
DTSTAMP:20260422T152255
DTSTART;TZID=Europe/Berlin:20261011T140000
DTEND;TZID=Europe/Berlin:20261011T170000
UID:261100001-20261011T140000@VHSOBERES NAGOLDTAL
SUMMARY:50 Jahre vhson - Ausstellung zum Jubiläum 1976-2026 (261100001) 
LOCATION:Treffpunkt: siehe Infotext, , 
END:VEVENT
BEGIN:VEVENT
DTSTAMP:20260422T152255
DTSTART;TZID=Europe/Berlin:20261018T140000
DTEND;TZID=Europe/Berlin:20261018T170000
UID:261100001-20261018T140000@VHSOBERES NAGOLDTAL
SUMMARY:50 Jahre vhson - Ausstellung zum Jubiläum 1976-2026 (261100001) 
LOCATION:Treffpunkt: siehe Infotext, , 
END:VEVENT
BEGIN:VEVENT
DTSTAMP:20260422T152255
DTSTART;TZID=Europe/Berlin:20261025T140000
DTEND;TZID=Europe/Berlin:20261025T170000
UID:261100001-20261025T140000@VHSOBERES NAGOLDTAL
SUMMARY:50 Jahre vhson - Ausstellung zum Jubiläum 1976-2026 (261100001) 
LOCATION:Treffpunkt: siehe Infotext, , 
END:VEVENT
END:VCALENDAR