BEGIN:VCALENDAR
PRODID:http://www.kufer.de/kuferweb / DE
VERSION:2.0
METHOD:PUBLISH
CALSCALE:GREGORIAN
X-WR-TIMEZONE:Europe/Berlin
BEGIN:VTIMEZONE
TZID:Europe/Berlin
X-LIC-LOCATION:Europe/Berlin
BEGIN:DAYLIGHT
TZOFFSETFROM:+0100
TZOFFSETTO:+0200
TZNAME:CEST
DTSTART;TZID=Europe/Berlin:19700329T020000
RRULE:FREQ=YEARLY;INTERVAL=1;BYDAY=-1SU;BYMONTH=3
END:DAYLIGHT
BEGIN:STANDARD
TZOFFSETFROM:+0200
TZOFFSETTO:+0100
TZNAME:CET
DTSTART;TZID=Europe/Berlin:19701025T030000
RRULE:FREQ=YEARLY;INTERVAL=1;BYDAY=-1SU;BYMONTH=10
END:STANDARD
END:VTIMEZONE
BEGIN:VEVENT
DTSTAMP:20260423T145149
DTSTART;TZID=Europe/Berlin:20260221T080000
DTEND;TZID=Europe/Berlin:20260221T200000
UID:261206007-20260221T080000@VHSOBERES NAGOLDTAL
SUMMARY:Ausstellung: Siegfried Kuhlbrodt (261206007) 
LOCATION:Treffpunkt: siehe Infotext, , 
END:VEVENT
BEGIN:VEVENT
DTSTAMP:20260423T145149
DTSTART;TZID=Europe/Berlin:20260223T080000
DTEND;TZID=Europe/Berlin:20260223T200000
UID:261206007-20260223T080000@VHSOBERES NAGOLDTAL
SUMMARY:Ausstellung: Siegfried Kuhlbrodt (261206007) 
LOCATION:Treffpunkt: siehe Infotext, , 
END:VEVENT
BEGIN:VEVENT
DTSTAMP:20260423T145149
DTSTART;TZID=Europe/Berlin:20260224T080000
DTEND;TZID=Europe/Berlin:20260224T200000
UID:261206007-20260224T080000@VHSOBERES NAGOLDTAL
SUMMARY:Ausstellung: Siegfried Kuhlbrodt (261206007) 
LOCATION:Treffpunkt: siehe Infotext, , 
END:VEVENT
BEGIN:VEVENT
DTSTAMP:20260423T145149
DTSTART;TZID=Europe/Berlin:20260225T080000
DTEND;TZID=Europe/Berlin:20260225T200000
UID:261206007-20260225T080000@VHSOBERES NAGOLDTAL
SUMMARY:Ausstellung: Siegfried Kuhlbrodt (261206007) 
LOCATION:Treffpunkt: siehe Infotext, , 
END:VEVENT
BEGIN:VEVENT
DTSTAMP:20260423T145149
DTSTART;TZID=Europe/Berlin:20260226T080000
DTEND;TZID=Europe/Berlin:20260226T200000
UID:261206007-20260226T080000@VHSOBERES NAGOLDTAL
SUMMARY:Ausstellung: Siegfried Kuhlbrodt (261206007) 
LOCATION:Treffpunkt: siehe Infotext, , 
END:VEVENT
BEGIN:VEVENT
DTSTAMP:20260423T145149
DTSTART;TZID=Europe/Berlin:20260227T080000
DTEND;TZID=Europe/Berlin:20260227T200000
UID:261206007-20260227T080000@VHSOBERES NAGOLDTAL
SUMMARY:Ausstellung: Siegfried Kuhlbrodt (261206007) 
LOCATION:Treffpunkt: siehe Infotext, , 
END:VEVENT
BEGIN:VEVENT
DTSTAMP:20260423T145149
DTSTART;TZID=Europe/Berlin:20260228T080000
DTEND;TZID=Europe/Berlin:20260228T200000
UID:261206007-20260228T080000@VHSOBERES NAGOLDTAL
SUMMARY:Ausstellung: Siegfried Kuhlbrodt (261206007) 
LOCATION:Treffpunkt: siehe Infotext, , 
END:VEVENT
BEGIN:VEVENT
DTSTAMP:20260423T145149
DTSTART;TZID=Europe/Berlin:20260302T080000
DTEND;TZID=Europe/Berlin:20260302T200000
UID:261206007-20260302T080000@VHSOBERES NAGOLDTAL
SUMMARY:Ausstellung: Siegfried Kuhlbrodt (261206007) 
LOCATION:Treffpunkt: siehe Infotext, , 
END:VEVENT
BEGIN:VEVENT
DTSTAMP:20260423T145149
DTSTART;TZID=Europe/Berlin:20260303T080000
DTEND;TZID=Europe/Berlin:20260303T200000
UID:261206007-20260303T080000@VHSOBERES NAGOLDTAL
SUMMARY:Ausstellung: Siegfried Kuhlbrodt (261206007) 
LOCATION:Treffpunkt: siehe Infotext, , 
END:VEVENT
BEGIN:VEVENT
DTSTAMP:20260423T145149
DTSTART;TZID=Europe/Berlin:20260304T080000
DTEND;TZID=Europe/Berlin:20260304T200000
UID:261206007-20260304T080000@VHSOBERES NAGOLDTAL
SUMMARY:Ausstellung: Siegfried Kuhlbrodt (261206007) 
LOCATION:Treffpunkt: siehe Infotext, , 
END:VEVENT
BEGIN:VEVENT
DTSTAMP:20260423T145149
DTSTART;TZID=Europe/Berlin:20260305T080000
DTEND;TZID=Europe/Berlin:20260305T200000
UID:261206007-20260305T080000@VHSOBERES NAGOLDTAL
SUMMARY:Ausstellung: Siegfried Kuhlbrodt (261206007) 
LOCATION:Treffpunkt: siehe Infotext, , 
END:VEVENT
BEGIN:VEVENT
DTSTAMP:20260423T145149
DTSTART;TZID=Europe/Berlin:20260306T080000
DTEND;TZID=Europe/Berlin:20260306T200000
UID:261206007-20260306T080000@VHSOBERES NAGOLDTAL
SUMMARY:Ausstellung: Siegfried Kuhlbrodt (261206007) 
LOCATION:Treffpunkt: siehe Infotext, , 
END:VEVENT
BEGIN:VEVENT
DTSTAMP:20260423T145149
DTSTART;TZID=Europe/Berlin:20260307T080000
DTEND;TZID=Europe/Berlin:20260307T200000
UID:261206007-20260307T080000@VHSOBERES NAGOLDTAL
SUMMARY:Ausstellung: Siegfried Kuhlbrodt (261206007) 
LOCATION:Treffpunkt: siehe Infotext, , 
END:VEVENT
BEGIN:VEVENT
DTSTAMP:20260423T145149
DTSTART;TZID=Europe/Berlin:20260309T080000
DTEND;TZID=Europe/Berlin:20260309T200000
UID:261206007-20260309T080000@VHSOBERES NAGOLDTAL
SUMMARY:Ausstellung: Siegfried Kuhlbrodt (261206007) 
LOCATION:Treffpunkt: siehe Infotext, , 
END:VEVENT
BEGIN:VEVENT
DTSTAMP:20260423T145149
DTSTART;TZID=Europe/Berlin:20260310T080000
DTEND;TZID=Europe/Berlin:20260310T200000
UID:261206007-20260310T080000@VHSOBERES NAGOLDTAL
SUMMARY:Ausstellung: Siegfried Kuhlbrodt (261206007) 
LOCATION:Treffpunkt: siehe Infotext, , 
END:VEVENT
BEGIN:VEVENT
DTSTAMP:20260423T145149
DTSTART;TZID=Europe/Berlin:20260311T080000
DTEND;TZID=Europe/Berlin:20260311T200000
UID:261206007-20260311T080000@VHSOBERES NAGOLDTAL
SUMMARY:Ausstellung: Siegfried Kuhlbrodt (261206007) 
LOCATION:Treffpunkt: siehe Infotext, , 
END:VEVENT
BEGIN:VEVENT
DTSTAMP:20260423T145149
DTSTART;TZID=Europe/Berlin:20260312T080000
DTEND;TZID=Europe/Berlin:20260312T200000
UID:261206007-20260312T080000@VHSOBERES NAGOLDTAL
SUMMARY:Ausstellung: Siegfried Kuhlbrodt (261206007) 
LOCATION:Treffpunkt: siehe Infotext, , 
END:VEVENT
BEGIN:VEVENT
DTSTAMP:20260423T145149
DTSTART;TZID=Europe/Berlin:20260313T080000
DTEND;TZID=Europe/Berlin:20260313T200000
UID:261206007-20260313T080000@VHSOBERES NAGOLDTAL
SUMMARY:Ausstellung: Siegfried Kuhlbrodt (261206007) 
LOCATION:Treffpunkt: siehe Infotext, , 
END:VEVENT
BEGIN:VEVENT
DTSTAMP:20260423T145149
DTSTART;TZID=Europe/Berlin:20260314T080000
DTEND;TZID=Europe/Berlin:20260314T200000
UID:261206007-20260314T080000@VHSOBERES NAGOLDTAL
SUMMARY:Ausstellung: Siegfried Kuhlbrodt (261206007) 
LOCATION:Treffpunkt: siehe Infotext, , 
END:VEVENT
BEGIN:VEVENT
DTSTAMP:20260423T145149
DTSTART;TZID=Europe/Berlin:20260316T080000
DTEND;TZID=Europe/Berlin:20260316T200000
UID:261206007-20260316T080000@VHSOBERES NAGOLDTAL
SUMMARY:Ausstellung: Siegfried Kuhlbrodt (261206007) 
LOCATION:Treffpunkt: siehe Infotext, , 
END:VEVENT
BEGIN:VEVENT
DTSTAMP:20260423T145149
DTSTART;TZID=Europe/Berlin:20260317T080000
DTEND;TZID=Europe/Berlin:20260317T200000
UID:261206007-20260317T080000@VHSOBERES NAGOLDTAL
SUMMARY:Ausstellung: Siegfried Kuhlbrodt (261206007) 
LOCATION:Treffpunkt: siehe Infotext, , 
END:VEVENT
BEGIN:VEVENT
DTSTAMP:20260423T145149
DTSTART;TZID=Europe/Berlin:20260318T080000
DTEND;TZID=Europe/Berlin:20260318T200000
UID:261206007-20260318T080000@VHSOBERES NAGOLDTAL
SUMMARY:Ausstellung: Siegfried Kuhlbrodt (261206007) 
LOCATION:Treffpunkt: siehe Infotext, , 
END:VEVENT
BEGIN:VEVENT
DTSTAMP:20260423T145149
DTSTART;TZID=Europe/Berlin:20260319T080000
DTEND;TZID=Europe/Berlin:20260319T200000
UID:261206007-20260319T080000@VHSOBERES NAGOLDTAL
SUMMARY:Ausstellung: Siegfried Kuhlbrodt (261206007) 
LOCATION:Treffpunkt: siehe Infotext, , 
END:VEVENT
BEGIN:VEVENT
DTSTAMP:20260423T145149
DTSTART;TZID=Europe/Berlin:20260320T080000
DTEND;TZID=Europe/Berlin:20260320T200000
UID:261206007-20260320T080000@VHSOBERES NAGOLDTAL
SUMMARY:Ausstellung: Siegfried Kuhlbrodt (261206007) 
LOCATION:Treffpunkt: siehe Infotext, , 
END:VEVENT
BEGIN:VEVENT
DTSTAMP:20260423T145149
DTSTART;TZID=Europe/Berlin:20260321T080000
DTEND;TZID=Europe/Berlin:20260321T200000
UID:261206007-20260321T080000@VHSOBERES NAGOLDTAL
SUMMARY:Ausstellung: Siegfried Kuhlbrodt (261206007) 
LOCATION:Treffpunkt: siehe Infotext, , 
END:VEVENT
BEGIN:VEVENT
DTSTAMP:20260423T145149
DTSTART;TZID=Europe/Berlin:20260323T080000
DTEND;TZID=Europe/Berlin:20260323T200000
UID:261206007-20260323T080000@VHSOBERES NAGOLDTAL
SUMMARY:Ausstellung: Siegfried Kuhlbrodt (261206007) 
LOCATION:Treffpunkt: siehe Infotext, , 
END:VEVENT
BEGIN:VEVENT
DTSTAMP:20260423T145149
DTSTART;TZID=Europe/Berlin:20260324T080000
DTEND;TZID=Europe/Berlin:20260324T200000
UID:261206007-20260324T080000@VHSOBERES NAGOLDTAL
SUMMARY:Ausstellung: Siegfried Kuhlbrodt (261206007) 
LOCATION:Treffpunkt: siehe Infotext, , 
END:VEVENT
BEGIN:VEVENT
DTSTAMP:20260423T145149
DTSTART;TZID=Europe/Berlin:20260325T080000
DTEND;TZID=Europe/Berlin:20260325T200000
UID:261206007-20260325T080000@VHSOBERES NAGOLDTAL
SUMMARY:Ausstellung: Siegfried Kuhlbrodt (261206007) 
LOCATION:Treffpunkt: siehe Infotext, , 
END:VEVENT
BEGIN:VEVENT
DTSTAMP:20260423T145149
DTSTART;TZID=Europe/Berlin:20260326T080000
DTEND;TZID=Europe/Berlin:20260326T200000
UID:261206007-20260326T080000@VHSOBERES NAGOLDTAL
SUMMARY:Ausstellung: Siegfried Kuhlbrodt (261206007) 
LOCATION:Treffpunkt: siehe Infotext, , 
END:VEVENT
BEGIN:VEVENT
DTSTAMP:20260423T145149
DTSTART;TZID=Europe/Berlin:20260327T080000
DTEND;TZID=Europe/Berlin:20260327T200000
UID:261206007-20260327T080000@VHSOBERES NAGOLDTAL
SUMMARY:Ausstellung: Siegfried Kuhlbrodt (261206007) 
LOCATION:Treffpunkt: siehe Infotext, , 
END:VEVENT
BEGIN:VEVENT
DTSTAMP:20260423T145149
DTSTART;TZID=Europe/Berlin:20260328T080000
DTEND;TZID=Europe/Berlin:20260328T200000
UID:261206007-20260328T080000@VHSOBERES NAGOLDTAL
SUMMARY:Ausstellung: Siegfried Kuhlbrodt (261206007) 
LOCATION:Treffpunkt: siehe Infotext, , 
END:VEVENT
BEGIN:VEVENT
DTSTAMP:20260423T145149
DTSTART;TZID=Europe/Berlin:20260411T080000
DTEND;TZID=Europe/Berlin:20260411T200000
UID:261206007-20260411T080000@VHSOBERES NAGOLDTAL
SUMMARY:Ausstellung: Siegfried Kuhlbrodt (261206007) 
LOCATION:Treffpunkt: siehe Infotext, , 
END:VEVENT
BEGIN:VEVENT
DTSTAMP:20260423T145149
DTSTART;TZID=Europe/Berlin:20260413T080000
DTEND;TZID=Europe/Berlin:20260413T200000
UID:261206007-20260413T080000@VHSOBERES NAGOLDTAL
SUMMARY:Ausstellung: Siegfried Kuhlbrodt (261206007) 
LOCATION:Treffpunkt: siehe Infotext, , 
END:VEVENT
BEGIN:VEVENT
DTSTAMP:20260423T145149
DTSTART;TZID=Europe/Berlin:20260414T080000
DTEND;TZID=Europe/Berlin:20260414T200000
UID:261206007-20260414T080000@VHSOBERES NAGOLDTAL
SUMMARY:Ausstellung: Siegfried Kuhlbrodt (261206007) 
LOCATION:Treffpunkt: siehe Infotext, , 
END:VEVENT
BEGIN:VEVENT
DTSTAMP:20260423T145149
DTSTART;TZID=Europe/Berlin:20260415T080000
DTEND;TZID=Europe/Berlin:20260415T200000
UID:261206007-20260415T080000@VHSOBERES NAGOLDTAL
SUMMARY:Ausstellung: Siegfried Kuhlbrodt (261206007) 
LOCATION:Treffpunkt: siehe Infotext, , 
END:VEVENT
BEGIN:VEVENT
DTSTAMP:20260423T145149
DTSTART;TZID=Europe/Berlin:20260416T080000
DTEND;TZID=Europe/Berlin:20260416T200000
UID:261206007-20260416T080000@VHSOBERES NAGOLDTAL
SUMMARY:Ausstellung: Siegfried Kuhlbrodt (261206007) 
LOCATION:Treffpunkt: siehe Infotext, , 
END:VEVENT
BEGIN:VEVENT
DTSTAMP:20260423T145149
DTSTART;TZID=Europe/Berlin:20260417T080000
DTEND;TZID=Europe/Berlin:20260417T200000
UID:261206007-20260417T080000@VHSOBERES NAGOLDTAL
SUMMARY:Ausstellung: Siegfried Kuhlbrodt (261206007) 
LOCATION:Treffpunkt: siehe Infotext, , 
END:VEVENT
BEGIN:VEVENT
DTSTAMP:20260423T145149
DTSTART;TZID=Europe/Berlin:20260418T080000
DTEND;TZID=Europe/Berlin:20260418T200000
UID:261206007-20260418T080000@VHSOBERES NAGOLDTAL
SUMMARY:Ausstellung: Siegfried Kuhlbrodt (261206007) 
LOCATION:Treffpunkt: siehe Infotext, , 
END:VEVENT
BEGIN:VEVENT
DTSTAMP:20260423T145149
DTSTART;TZID=Europe/Berlin:20260420T080000
DTEND;TZID=Europe/Berlin:20260420T200000
UID:261206007-20260420T080000@VHSOBERES NAGOLDTAL
SUMMARY:Ausstellung: Siegfried Kuhlbrodt (261206007) 
LOCATION:Treffpunkt: siehe Infotext, , 
END:VEVENT
BEGIN:VEVENT
DTSTAMP:20260423T145149
DTSTART;TZID=Europe/Berlin:20260421T080000
DTEND;TZID=Europe/Berlin:20260421T200000
UID:261206007-20260421T080000@VHSOBERES NAGOLDTAL
SUMMARY:Ausstellung: Siegfried Kuhlbrodt (261206007) 
LOCATION:Treffpunkt: siehe Infotext, , 
END:VEVENT
BEGIN:VEVENT
DTSTAMP:20260423T145149
DTSTART;TZID=Europe/Berlin:20260422T080000
DTEND;TZID=Europe/Berlin:20260422T200000
UID:261206007-20260422T080000@VHSOBERES NAGOLDTAL
SUMMARY:Ausstellung: Siegfried Kuhlbrodt (261206007) 
LOCATION:Treffpunkt: siehe Infotext, , 
END:VEVENT
BEGIN:VEVENT
DTSTAMP:20260423T145149
DTSTART;TZID=Europe/Berlin:20260423T080000
DTEND;TZID=Europe/Berlin:20260423T200000
UID:261206007-20260423T080000@VHSOBERES NAGOLDTAL
SUMMARY:Ausstellung: Siegfried Kuhlbrodt (261206007) 
LOCATION:Treffpunkt: siehe Infotext, , 
END:VEVENT
BEGIN:VEVENT
DTSTAMP:20260423T145149
DTSTART;TZID=Europe/Berlin:20260424T080000
DTEND;TZID=Europe/Berlin:20260424T200000
UID:261206007-20260424T080000@VHSOBERES NAGOLDTAL
SUMMARY:Ausstellung: Siegfried Kuhlbrodt (261206007) 
LOCATION:Treffpunkt: siehe Infotext, , 
END:VEVENT
BEGIN:VEVENT
DTSTAMP:20260423T145149
DTSTART;TZID=Europe/Berlin:20260425T080000
DTEND;TZID=Europe/Berlin:20260425T200000
UID:261206007-20260425T080000@VHSOBERES NAGOLDTAL
SUMMARY:Ausstellung: Siegfried Kuhlbrodt (261206007) 
LOCATION:Treffpunkt: siehe Infotext, , 
END:VEVENT
BEGIN:VEVENT
DTSTAMP:20260423T145149
DTSTART;TZID=Europe/Berlin:20260427T080000
DTEND;TZID=Europe/Berlin:20260427T200000
UID:261206007-20260427T080000@VHSOBERES NAGOLDTAL
SUMMARY:Ausstellung: Siegfried Kuhlbrodt (261206007) 
LOCATION:Treffpunkt: siehe Infotext, , 
END:VEVENT
END:VCALENDAR