BEGIN:VCALENDAR
PRODID:http://www.kufer.de/kuferweb / DE
VERSION:2.0
METHOD:PUBLISH
CALSCALE:GREGORIAN
X-WR-TIMEZONE:Europe/Berlin
BEGIN:VTIMEZONE
TZID:Europe/Berlin
X-LIC-LOCATION:Europe/Berlin
BEGIN:DAYLIGHT
TZOFFSETFROM:+0100
TZOFFSETTO:+0200
TZNAME:CEST
DTSTART;TZID=Europe/Berlin:19700329T020000
RRULE:FREQ=YEARLY;INTERVAL=1;BYDAY=-1SU;BYMONTH=3
END:DAYLIGHT
BEGIN:STANDARD
TZOFFSETFROM:+0200
TZOFFSETTO:+0100
TZNAME:CET
DTSTART;TZID=Europe/Berlin:19701025T030000
RRULE:FREQ=YEARLY;INTERVAL=1;BYDAY=-1SU;BYMONTH=10
END:STANDARD
END:VTIMEZONE
BEGIN:VEVENT
DTSTAMP:20260425T140025
DTSTART;TZID=Europe/Berlin:20260310T100000
DTEND;TZID=Europe/Berlin:20260310T120000
UID:261207023-20260310T100000@VHSOBERES NAGOLDTAL
SUMMARY:Kreativ...am Morgen (261207023) 
LOCATION:Jugendkunstschule Nagold: Werkraum, Lindachstraße 14, 72202 Nagold
END:VEVENT
BEGIN:VEVENT
DTSTAMP:20260425T140025
DTSTART;TZID=Europe/Berlin:20260317T100000
DTEND;TZID=Europe/Berlin:20260317T120000
UID:261207023-20260317T100000@VHSOBERES NAGOLDTAL
SUMMARY:Kreativ...am Morgen (261207023) 
LOCATION:Jugendkunstschule Nagold: Werkraum, Lindachstraße 14, 72202 Nagold
END:VEVENT
BEGIN:VEVENT
DTSTAMP:20260425T140025
DTSTART;TZID=Europe/Berlin:20260324T100000
DTEND;TZID=Europe/Berlin:20260324T120000
UID:261207023-20260324T100000@VHSOBERES NAGOLDTAL
SUMMARY:Kreativ...am Morgen (261207023) 
LOCATION:Jugendkunstschule Nagold: Werkraum, Lindachstraße 14, 72202 Nagold
END:VEVENT
BEGIN:VEVENT
DTSTAMP:20260425T140025
DTSTART;TZID=Europe/Berlin:20260414T100000
DTEND;TZID=Europe/Berlin:20260414T120000
UID:261207023-20260414T100000@VHSOBERES NAGOLDTAL
SUMMARY:Kreativ...am Morgen (261207023) 
LOCATION:Jugendkunstschule Nagold: Werkraum, Lindachstraße 14, 72202 Nagold
END:VEVENT
BEGIN:VEVENT
DTSTAMP:20260425T140025
DTSTART;TZID=Europe/Berlin:20260421T100000
DTEND;TZID=Europe/Berlin:20260421T120000
UID:261207023-20260421T100000@VHSOBERES NAGOLDTAL
SUMMARY:Kreativ...am Morgen (261207023) 
LOCATION:Jugendkunstschule Nagold: Werkraum, Lindachstraße 14, 72202 Nagold
END:VEVENT
BEGIN:VEVENT
DTSTAMP:20260425T140025
DTSTART;TZID=Europe/Berlin:20260428T100000
DTEND;TZID=Europe/Berlin:20260428T120000
UID:261207023-20260428T100000@VHSOBERES NAGOLDTAL
SUMMARY:Kreativ...am Morgen (261207023) 
LOCATION:Jugendkunstschule Nagold: Werkraum, Lindachstraße 14, 72202 Nagold
END:VEVENT
BEGIN:VEVENT
DTSTAMP:20260425T140025
DTSTART;TZID=Europe/Berlin:20260505T100000
DTEND;TZID=Europe/Berlin:20260505T120000
UID:261207023-20260505T100000@VHSOBERES NAGOLDTAL
SUMMARY:Kreativ...am Morgen (261207023) 
LOCATION:Jugendkunstschule Nagold: Werkraum, Lindachstraße 14, 72202 Nagold
END:VEVENT
BEGIN:VEVENT
DTSTAMP:20260425T140025
DTSTART;TZID=Europe/Berlin:20260512T100000
DTEND;TZID=Europe/Berlin:20260512T120000
UID:261207023-20260512T100000@VHSOBERES NAGOLDTAL
SUMMARY:Kreativ...am Morgen (261207023) 
LOCATION:Jugendkunstschule Nagold: Werkraum, Lindachstraße 14, 72202 Nagold
END:VEVENT
BEGIN:VEVENT
DTSTAMP:20260425T140025
DTSTART;TZID=Europe/Berlin:20260519T100000
DTEND;TZID=Europe/Berlin:20260519T120000
UID:261207023-20260519T100000@VHSOBERES NAGOLDTAL
SUMMARY:Kreativ...am Morgen (261207023) 
LOCATION:Jugendkunstschule Nagold: Werkraum, Lindachstraße 14, 72202 Nagold
END:VEVENT
BEGIN:VEVENT
DTSTAMP:20260425T140025
DTSTART;TZID=Europe/Berlin:20260609T100000
DTEND;TZID=Europe/Berlin:20260609T120000
UID:261207023-20260609T100000@VHSOBERES NAGOLDTAL
SUMMARY:Kreativ...am Morgen (261207023) 
LOCATION:Jugendkunstschule Nagold: Werkraum, Lindachstraße 14, 72202 Nagold
END:VEVENT
BEGIN:VEVENT
DTSTAMP:20260425T140025
DTSTART;TZID=Europe/Berlin:20260616T100000
DTEND;TZID=Europe/Berlin:20260616T120000
UID:261207023-20260616T100000@VHSOBERES NAGOLDTAL
SUMMARY:Kreativ...am Morgen (261207023) 
LOCATION:Jugendkunstschule Nagold: Werkraum, Lindachstraße 14, 72202 Nagold
END:VEVENT
BEGIN:VEVENT
DTSTAMP:20260425T140025
DTSTART;TZID=Europe/Berlin:20260623T100000
DTEND;TZID=Europe/Berlin:20260623T120000
UID:261207023-20260623T100000@VHSOBERES NAGOLDTAL
SUMMARY:Kreativ...am Morgen (261207023) 
LOCATION:Jugendkunstschule Nagold: Werkraum, Lindachstraße 14, 72202 Nagold
END:VEVENT
BEGIN:VEVENT
DTSTAMP:20260425T140025
DTSTART;TZID=Europe/Berlin:20260630T100000
DTEND;TZID=Europe/Berlin:20260630T120000
UID:261207023-20260630T100000@VHSOBERES NAGOLDTAL
SUMMARY:Kreativ...am Morgen (261207023) 
LOCATION:Jugendkunstschule Nagold: Werkraum, Lindachstraße 14, 72202 Nagold
END:VEVENT
BEGIN:VEVENT
DTSTAMP:20260425T140025
DTSTART;TZID=Europe/Berlin:20260707T100000
DTEND;TZID=Europe/Berlin:20260707T120000
UID:261207023-20260707T100000@VHSOBERES NAGOLDTAL
SUMMARY:Kreativ...am Morgen (261207023) 
LOCATION:Jugendkunstschule Nagold: Werkraum, Lindachstraße 14, 72202 Nagold
END:VEVENT
BEGIN:VEVENT
DTSTAMP:20260425T140025
DTSTART;TZID=Europe/Berlin:20260714T100000
DTEND;TZID=Europe/Berlin:20260714T120000
UID:261207023-20260714T100000@VHSOBERES NAGOLDTAL
SUMMARY:Kreativ...am Morgen (261207023) 
LOCATION:Jugendkunstschule Nagold: Werkraum, Lindachstraße 14, 72202 Nagold
END:VEVENT
BEGIN:VEVENT
DTSTAMP:20260425T140025
DTSTART;TZID=Europe/Berlin:20260721T100000
DTEND;TZID=Europe/Berlin:20260721T120000
UID:261207023-20260721T100000@VHSOBERES NAGOLDTAL
SUMMARY:Kreativ...am Morgen (261207023) 
LOCATION:Jugendkunstschule Nagold: Werkraum, Lindachstraße 14, 72202 Nagold
END:VEVENT
BEGIN:VEVENT
DTSTAMP:20260425T140025
DTSTART;TZID=Europe/Berlin:20260728T100000
DTEND;TZID=Europe/Berlin:20260728T120000
UID:261207023-20260728T100000@VHSOBERES NAGOLDTAL
SUMMARY:Kreativ...am Morgen (261207023) 
LOCATION:Jugendkunstschule Nagold: Werkraum, Lindachstraße 14, 72202 Nagold
END:VEVENT
END:VCALENDAR