BEGIN:VCALENDAR
PRODID:http://www.kufer.de/kuferweb / DE
VERSION:2.0
METHOD:PUBLISH
CALSCALE:GREGORIAN
X-WR-TIMEZONE:Europe/Berlin
BEGIN:VTIMEZONE
TZID:Europe/Berlin
X-LIC-LOCATION:Europe/Berlin
BEGIN:DAYLIGHT
TZOFFSETFROM:+0100
TZOFFSETTO:+0200
TZNAME:CEST
DTSTART;TZID=Europe/Berlin:19700329T020000
RRULE:FREQ=YEARLY;INTERVAL=1;BYDAY=-1SU;BYMONTH=3
END:DAYLIGHT
BEGIN:STANDARD
TZOFFSETFROM:+0200
TZOFFSETTO:+0100
TZNAME:CET
DTSTART;TZID=Europe/Berlin:19701025T030000
RRULE:FREQ=YEARLY;INTERVAL=1;BYDAY=-1SU;BYMONTH=10
END:STANDARD
END:VTIMEZONE
BEGIN:VEVENT
DTSTAMP:20260425T140015
DTSTART;TZID=Europe/Berlin:20260311T183000
DTEND;TZID=Europe/Berlin:20260311T203000
UID:261207024-20260311T183000@VHSOBERES NAGOLDTAL
SUMMARY:Kreativ...am Abend (261207024) 
LOCATION:Jugendkunstschule Nagold: Werkraum, Lindachstraße 14, 72202 Nagold
END:VEVENT
BEGIN:VEVENT
DTSTAMP:20260425T140015
DTSTART;TZID=Europe/Berlin:20260318T183000
DTEND;TZID=Europe/Berlin:20260318T203000
UID:261207024-20260318T183000@VHSOBERES NAGOLDTAL
SUMMARY:Kreativ...am Abend (261207024) 
LOCATION:Jugendkunstschule Nagold: Werkraum, Lindachstraße 14, 72202 Nagold
END:VEVENT
BEGIN:VEVENT
DTSTAMP:20260425T140015
DTSTART;TZID=Europe/Berlin:20260325T183000
DTEND;TZID=Europe/Berlin:20260325T203000
UID:261207024-20260325T183000@VHSOBERES NAGOLDTAL
SUMMARY:Kreativ...am Abend (261207024) 
LOCATION:Jugendkunstschule Nagold: Werkraum, Lindachstraße 14, 72202 Nagold
END:VEVENT
BEGIN:VEVENT
DTSTAMP:20260425T140015
DTSTART;TZID=Europe/Berlin:20260415T183000
DTEND;TZID=Europe/Berlin:20260415T203000
UID:261207024-20260415T183000@VHSOBERES NAGOLDTAL
SUMMARY:Kreativ...am Abend (261207024) 
LOCATION:Jugendkunstschule Nagold: Werkraum, Lindachstraße 14, 72202 Nagold
END:VEVENT
BEGIN:VEVENT
DTSTAMP:20260425T140015
DTSTART;TZID=Europe/Berlin:20260422T183000
DTEND;TZID=Europe/Berlin:20260422T203000
UID:261207024-20260422T183000@VHSOBERES NAGOLDTAL
SUMMARY:Kreativ...am Abend (261207024) 
LOCATION:Jugendkunstschule Nagold: Werkraum, Lindachstraße 14, 72202 Nagold
END:VEVENT
BEGIN:VEVENT
DTSTAMP:20260425T140015
DTSTART;TZID=Europe/Berlin:20260429T183000
DTEND;TZID=Europe/Berlin:20260429T203000
UID:261207024-20260429T183000@VHSOBERES NAGOLDTAL
SUMMARY:Kreativ...am Abend (261207024) 
LOCATION:Jugendkunstschule Nagold: Werkraum, Lindachstraße 14, 72202 Nagold
END:VEVENT
BEGIN:VEVENT
DTSTAMP:20260425T140015
DTSTART;TZID=Europe/Berlin:20260506T183000
DTEND;TZID=Europe/Berlin:20260506T203000
UID:261207024-20260506T183000@VHSOBERES NAGOLDTAL
SUMMARY:Kreativ...am Abend (261207024) 
LOCATION:Jugendkunstschule Nagold: Werkraum, Lindachstraße 14, 72202 Nagold
END:VEVENT
BEGIN:VEVENT
DTSTAMP:20260425T140015
DTSTART;TZID=Europe/Berlin:20260513T183000
DTEND;TZID=Europe/Berlin:20260513T203000
UID:261207024-20260513T183000@VHSOBERES NAGOLDTAL
SUMMARY:Kreativ...am Abend (261207024) 
LOCATION:Jugendkunstschule Nagold: Werkraum, Lindachstraße 14, 72202 Nagold
END:VEVENT
BEGIN:VEVENT
DTSTAMP:20260425T140015
DTSTART;TZID=Europe/Berlin:20260520T183000
DTEND;TZID=Europe/Berlin:20260520T203000
UID:261207024-20260520T183000@VHSOBERES NAGOLDTAL
SUMMARY:Kreativ...am Abend (261207024) 
LOCATION:Jugendkunstschule Nagold: Werkraum, Lindachstraße 14, 72202 Nagold
END:VEVENT
BEGIN:VEVENT
DTSTAMP:20260425T140015
DTSTART;TZID=Europe/Berlin:20260610T183000
DTEND;TZID=Europe/Berlin:20260610T203000
UID:261207024-20260610T183000@VHSOBERES NAGOLDTAL
SUMMARY:Kreativ...am Abend (261207024) 
LOCATION:Jugendkunstschule Nagold: Werkraum, Lindachstraße 14, 72202 Nagold
END:VEVENT
BEGIN:VEVENT
DTSTAMP:20260425T140015
DTSTART;TZID=Europe/Berlin:20260617T183000
DTEND;TZID=Europe/Berlin:20260617T203000
UID:261207024-20260617T183000@VHSOBERES NAGOLDTAL
SUMMARY:Kreativ...am Abend (261207024) 
LOCATION:Jugendkunstschule Nagold: Werkraum, Lindachstraße 14, 72202 Nagold
END:VEVENT
BEGIN:VEVENT
DTSTAMP:20260425T140015
DTSTART;TZID=Europe/Berlin:20260624T183000
DTEND;TZID=Europe/Berlin:20260624T203000
UID:261207024-20260624T183000@VHSOBERES NAGOLDTAL
SUMMARY:Kreativ...am Abend (261207024) 
LOCATION:Jugendkunstschule Nagold: Werkraum, Lindachstraße 14, 72202 Nagold
END:VEVENT
BEGIN:VEVENT
DTSTAMP:20260425T140015
DTSTART;TZID=Europe/Berlin:20260701T183000
DTEND;TZID=Europe/Berlin:20260701T203000
UID:261207024-20260701T183000@VHSOBERES NAGOLDTAL
SUMMARY:Kreativ...am Abend (261207024) 
LOCATION:Jugendkunstschule Nagold: Werkraum, Lindachstraße 14, 72202 Nagold
END:VEVENT
BEGIN:VEVENT
DTSTAMP:20260425T140015
DTSTART;TZID=Europe/Berlin:20260708T183000
DTEND;TZID=Europe/Berlin:20260708T203000
UID:261207024-20260708T183000@VHSOBERES NAGOLDTAL
SUMMARY:Kreativ...am Abend (261207024) 
LOCATION:Jugendkunstschule Nagold: Werkraum, Lindachstraße 14, 72202 Nagold
END:VEVENT
BEGIN:VEVENT
DTSTAMP:20260425T140015
DTSTART;TZID=Europe/Berlin:20260715T183000
DTEND;TZID=Europe/Berlin:20260715T203000
UID:261207024-20260715T183000@VHSOBERES NAGOLDTAL
SUMMARY:Kreativ...am Abend (261207024) 
LOCATION:Jugendkunstschule Nagold: Werkraum, Lindachstraße 14, 72202 Nagold
END:VEVENT
BEGIN:VEVENT
DTSTAMP:20260425T140015
DTSTART;TZID=Europe/Berlin:20260722T183000
DTEND;TZID=Europe/Berlin:20260722T203000
UID:261207024-20260722T183000@VHSOBERES NAGOLDTAL
SUMMARY:Kreativ...am Abend (261207024) 
LOCATION:Jugendkunstschule Nagold: Werkraum, Lindachstraße 14, 72202 Nagold
END:VEVENT
BEGIN:VEVENT
DTSTAMP:20260425T140015
DTSTART;TZID=Europe/Berlin:20260729T183000
DTEND;TZID=Europe/Berlin:20260729T203000
UID:261207024-20260729T183000@VHSOBERES NAGOLDTAL
SUMMARY:Kreativ...am Abend (261207024) 
LOCATION:Jugendkunstschule Nagold: Werkraum, Lindachstraße 14, 72202 Nagold
END:VEVENT
END:VCALENDAR