BEGIN:VCALENDAR
PRODID:http://www.kufer.de/kuferweb / DE
VERSION:2.0
METHOD:PUBLISH
CALSCALE:GREGORIAN
X-WR-TIMEZONE:Europe/Berlin
BEGIN:VTIMEZONE
TZID:Europe/Berlin
X-LIC-LOCATION:Europe/Berlin
BEGIN:DAYLIGHT
TZOFFSETFROM:+0100
TZOFFSETTO:+0200
TZNAME:CEST
DTSTART;TZID=Europe/Berlin:19700329T020000
RRULE:FREQ=YEARLY;INTERVAL=1;BYDAY=-1SU;BYMONTH=3
END:DAYLIGHT
BEGIN:STANDARD
TZOFFSETFROM:+0200
TZOFFSETTO:+0100
TZNAME:CET
DTSTART;TZID=Europe/Berlin:19701025T030000
RRULE:FREQ=YEARLY;INTERVAL=1;BYDAY=-1SU;BYMONTH=10
END:STANDARD
END:VTIMEZONE
BEGIN:VEVENT
DTSTAMP:20260425T141652
DTSTART;TZID=Europe/Berlin:20260305T190000
DTEND;TZID=Europe/Berlin:20260305T210000
UID:261207037-20260305T190000@VHSOBERES NAGOLDTAL
SUMMARY:Menschen zeichnen lernen: KOPF und PORTRAIT (261207037) 
LOCATION:Jugendkunstschule Nagold: Atelier, Lindachstraße 14, 72202 Nagold
END:VEVENT
BEGIN:VEVENT
DTSTAMP:20260425T141652
DTSTART;TZID=Europe/Berlin:20260312T190000
DTEND;TZID=Europe/Berlin:20260312T210000
UID:261207037-20260312T190000@VHSOBERES NAGOLDTAL
SUMMARY:Menschen zeichnen lernen: KOPF und PORTRAIT (261207037) 
LOCATION:Jugendkunstschule Nagold: Atelier, Lindachstraße 14, 72202 Nagold
END:VEVENT
BEGIN:VEVENT
DTSTAMP:20260425T141652
DTSTART;TZID=Europe/Berlin:20260319T190000
DTEND;TZID=Europe/Berlin:20260319T210000
UID:261207037-20260319T190000@VHSOBERES NAGOLDTAL
SUMMARY:Menschen zeichnen lernen: KOPF und PORTRAIT (261207037) 
LOCATION:Jugendkunstschule Nagold: Atelier, Lindachstraße 14, 72202 Nagold
END:VEVENT
BEGIN:VEVENT
DTSTAMP:20260425T141652
DTSTART;TZID=Europe/Berlin:20260326T190000
DTEND;TZID=Europe/Berlin:20260326T210000
UID:261207037-20260326T190000@VHSOBERES NAGOLDTAL
SUMMARY:Menschen zeichnen lernen: KOPF und PORTRAIT (261207037) 
LOCATION:Jugendkunstschule Nagold: Atelier, Lindachstraße 14, 72202 Nagold
END:VEVENT
BEGIN:VEVENT
DTSTAMP:20260425T141652
DTSTART;TZID=Europe/Berlin:20260416T190000
DTEND;TZID=Europe/Berlin:20260416T210000
UID:261207037-20260416T190000@VHSOBERES NAGOLDTAL
SUMMARY:Menschen zeichnen lernen: KOPF und PORTRAIT (261207037) 
LOCATION:Jugendkunstschule Nagold: Atelier, Lindachstraße 14, 72202 Nagold
END:VEVENT
BEGIN:VEVENT
DTSTAMP:20260425T141652
DTSTART;TZID=Europe/Berlin:20260423T190000
DTEND;TZID=Europe/Berlin:20260423T210000
UID:261207037-20260423T190000@VHSOBERES NAGOLDTAL
SUMMARY:Menschen zeichnen lernen: KOPF und PORTRAIT (261207037) 
LOCATION:Jugendkunstschule Nagold: Atelier, Lindachstraße 14, 72202 Nagold
END:VEVENT
BEGIN:VEVENT
DTSTAMP:20260425T141652
DTSTART;TZID=Europe/Berlin:20260430T190000
DTEND;TZID=Europe/Berlin:20260430T210000
UID:261207037-20260430T190000@VHSOBERES NAGOLDTAL
SUMMARY:Menschen zeichnen lernen: KOPF und PORTRAIT (261207037) 
LOCATION:Jugendkunstschule Nagold: Atelier, Lindachstraße 14, 72202 Nagold
END:VEVENT
BEGIN:VEVENT
DTSTAMP:20260425T141652
DTSTART;TZID=Europe/Berlin:20260507T190000
DTEND;TZID=Europe/Berlin:20260507T210000
UID:261207037-20260507T190000@VHSOBERES NAGOLDTAL
SUMMARY:Menschen zeichnen lernen: KOPF und PORTRAIT (261207037) 
LOCATION:Jugendkunstschule Nagold: Atelier, Lindachstraße 14, 72202 Nagold
END:VEVENT
BEGIN:VEVENT
DTSTAMP:20260425T141652
DTSTART;TZID=Europe/Berlin:20260521T190000
DTEND;TZID=Europe/Berlin:20260521T210000
UID:261207037-20260521T190000@VHSOBERES NAGOLDTAL
SUMMARY:Menschen zeichnen lernen: KOPF und PORTRAIT (261207037) 
LOCATION:Jugendkunstschule Nagold: Atelier, Lindachstraße 14, 72202 Nagold
END:VEVENT
BEGIN:VEVENT
DTSTAMP:20260425T141652
DTSTART;TZID=Europe/Berlin:20260611T190000
DTEND;TZID=Europe/Berlin:20260611T210000
UID:261207037-20260611T190000@VHSOBERES NAGOLDTAL
SUMMARY:Menschen zeichnen lernen: KOPF und PORTRAIT (261207037) 
LOCATION:Jugendkunstschule Nagold: Atelier, Lindachstraße 14, 72202 Nagold
END:VEVENT
BEGIN:VEVENT
DTSTAMP:20260425T141652
DTSTART;TZID=Europe/Berlin:20260618T190000
DTEND;TZID=Europe/Berlin:20260618T210000
UID:261207037-20260618T190000@VHSOBERES NAGOLDTAL
SUMMARY:Menschen zeichnen lernen: KOPF und PORTRAIT (261207037) 
LOCATION:Jugendkunstschule Nagold: Atelier, Lindachstraße 14, 72202 Nagold
END:VEVENT
BEGIN:VEVENT
DTSTAMP:20260425T141652
DTSTART;TZID=Europe/Berlin:20260625T190000
DTEND;TZID=Europe/Berlin:20260625T210000
UID:261207037-20260625T190000@VHSOBERES NAGOLDTAL
SUMMARY:Menschen zeichnen lernen: KOPF und PORTRAIT (261207037) 
LOCATION:Jugendkunstschule Nagold: Atelier, Lindachstraße 14, 72202 Nagold
END:VEVENT
BEGIN:VEVENT
DTSTAMP:20260425T141652
DTSTART;TZID=Europe/Berlin:20260702T190000
DTEND;TZID=Europe/Berlin:20260702T210000
UID:261207037-20260702T190000@VHSOBERES NAGOLDTAL
SUMMARY:Menschen zeichnen lernen: KOPF und PORTRAIT (261207037) 
LOCATION:Jugendkunstschule Nagold: Atelier, Lindachstraße 14, 72202 Nagold
END:VEVENT
BEGIN:VEVENT
DTSTAMP:20260425T141652
DTSTART;TZID=Europe/Berlin:20260709T190000
DTEND;TZID=Europe/Berlin:20260709T210000
UID:261207037-20260709T190000@VHSOBERES NAGOLDTAL
SUMMARY:Menschen zeichnen lernen: KOPF und PORTRAIT (261207037) 
LOCATION:Jugendkunstschule Nagold: Atelier, Lindachstraße 14, 72202 Nagold
END:VEVENT
BEGIN:VEVENT
DTSTAMP:20260425T141652
DTSTART;TZID=Europe/Berlin:20260716T190000
DTEND;TZID=Europe/Berlin:20260716T210000
UID:261207037-20260716T190000@VHSOBERES NAGOLDTAL
SUMMARY:Menschen zeichnen lernen: KOPF und PORTRAIT (261207037) 
LOCATION:Jugendkunstschule Nagold: Atelier, Lindachstraße 14, 72202 Nagold
END:VEVENT
BEGIN:VEVENT
DTSTAMP:20260425T141652
DTSTART;TZID=Europe/Berlin:20260723T190000
DTEND;TZID=Europe/Berlin:20260723T210000
UID:261207037-20260723T190000@VHSOBERES NAGOLDTAL
SUMMARY:Menschen zeichnen lernen: KOPF und PORTRAIT (261207037) 
LOCATION:Jugendkunstschule Nagold: Atelier, Lindachstraße 14, 72202 Nagold
END:VEVENT
END:VCALENDAR