BEGIN:VCALENDAR
PRODID:http://www.kufer.de/kuferweb / DE
VERSION:2.0
METHOD:PUBLISH
CALSCALE:GREGORIAN
X-WR-TIMEZONE:Europe/Berlin
BEGIN:VTIMEZONE
TZID:Europe/Berlin
X-LIC-LOCATION:Europe/Berlin
BEGIN:DAYLIGHT
TZOFFSETFROM:+0100
TZOFFSETTO:+0200
TZNAME:CEST
DTSTART;TZID=Europe/Berlin:19700329T020000
RRULE:FREQ=YEARLY;INTERVAL=1;BYDAY=-1SU;BYMONTH=3
END:DAYLIGHT
BEGIN:STANDARD
TZOFFSETFROM:+0200
TZOFFSETTO:+0100
TZNAME:CET
DTSTART;TZID=Europe/Berlin:19701025T030000
RRULE:FREQ=YEARLY;INTERVAL=1;BYDAY=-1SU;BYMONTH=10
END:STANDARD
END:VTIMEZONE
BEGIN:VEVENT
DTSTAMP:20260424T134721
DTSTART;TZID=Europe/Berlin:20260204T193000
DTEND;TZID=Europe/Berlin:20260204T213000
UID:261211001-20260204T193000@VHSOBERES NAGOLDTAL
SUMMARY:Arbeitsgemeinschaft  Fotografie (261211001) 
LOCATION:Volkshochschule Nagold: OG1, Bahnhofstraße 41, 72202 Nagold
END:VEVENT
BEGIN:VEVENT
DTSTAMP:20260424T134721
DTSTART;TZID=Europe/Berlin:20260218T193000
DTEND;TZID=Europe/Berlin:20260218T213000
UID:261211001-20260218T193000@VHSOBERES NAGOLDTAL
SUMMARY:Arbeitsgemeinschaft  Fotografie (261211001) 
LOCATION:Volkshochschule Nagold: OG1, Bahnhofstraße 41, 72202 Nagold
END:VEVENT
BEGIN:VEVENT
DTSTAMP:20260424T134721
DTSTART;TZID=Europe/Berlin:20260304T193000
DTEND;TZID=Europe/Berlin:20260304T213000
UID:261211001-20260304T193000@VHSOBERES NAGOLDTAL
SUMMARY:Arbeitsgemeinschaft  Fotografie (261211001) 
LOCATION:Volkshochschule Nagold: OG1, Bahnhofstraße 41, 72202 Nagold
END:VEVENT
BEGIN:VEVENT
DTSTAMP:20260424T134721
DTSTART;TZID=Europe/Berlin:20260318T193000
DTEND;TZID=Europe/Berlin:20260318T213000
UID:261211001-20260318T193000@VHSOBERES NAGOLDTAL
SUMMARY:Arbeitsgemeinschaft  Fotografie (261211001) 
LOCATION:Volkshochschule Nagold: OG1, Bahnhofstraße 41, 72202 Nagold
END:VEVENT
BEGIN:VEVENT
DTSTAMP:20260424T134721
DTSTART;TZID=Europe/Berlin:20260401T193000
DTEND;TZID=Europe/Berlin:20260401T213000
UID:261211001-20260401T193000@VHSOBERES NAGOLDTAL
SUMMARY:Arbeitsgemeinschaft  Fotografie (261211001) 
LOCATION:Volkshochschule Nagold: OG1, Bahnhofstraße 41, 72202 Nagold
END:VEVENT
BEGIN:VEVENT
DTSTAMP:20260424T134721
DTSTART;TZID=Europe/Berlin:20260415T193000
DTEND;TZID=Europe/Berlin:20260415T213000
UID:261211001-20260415T193000@VHSOBERES NAGOLDTAL
DESCRIPTION:in Absprache mit Herrn Kalmbach 13.04.26 (*DA):  
SUMMARY:Arbeitsgemeinschaft  Fotografie (261211001) 
LOCATION:Volkshochschule Nagold: UG1, Bahnhofstraße 41, 72202 Nagold
END:VEVENT
BEGIN:VEVENT
DTSTAMP:20260424T134721
DTSTART;TZID=Europe/Berlin:20260429T193000
DTEND;TZID=Europe/Berlin:20260429T213000
UID:261211001-20260429T193000@VHSOBERES NAGOLDTAL
SUMMARY:Arbeitsgemeinschaft  Fotografie (261211001) 
LOCATION:Volkshochschule Nagold: OG1, Bahnhofstraße 41, 72202 Nagold
END:VEVENT
BEGIN:VEVENT
DTSTAMP:20260424T134721
DTSTART;TZID=Europe/Berlin:20260513T193000
DTEND;TZID=Europe/Berlin:20260513T213000
UID:261211001-20260513T193000@VHSOBERES NAGOLDTAL
SUMMARY:Arbeitsgemeinschaft  Fotografie (261211001) 
LOCATION:Volkshochschule Nagold: OG1, Bahnhofstraße 41, 72202 Nagold
END:VEVENT
BEGIN:VEVENT
DTSTAMP:20260424T134721
DTSTART;TZID=Europe/Berlin:20260527T193000
DTEND;TZID=Europe/Berlin:20260527T213000
UID:261211001-20260527T193000@VHSOBERES NAGOLDTAL
SUMMARY:Arbeitsgemeinschaft  Fotografie (261211001) 
LOCATION:Volkshochschule Nagold: OG1, Bahnhofstraße 41, 72202 Nagold
END:VEVENT
BEGIN:VEVENT
DTSTAMP:20260424T134721
DTSTART;TZID=Europe/Berlin:20260610T193000
DTEND;TZID=Europe/Berlin:20260610T213000
UID:261211001-20260610T193000@VHSOBERES NAGOLDTAL
SUMMARY:Arbeitsgemeinschaft  Fotografie (261211001) 
LOCATION:Volkshochschule Nagold: OG1, Bahnhofstraße 41, 72202 Nagold
END:VEVENT
BEGIN:VEVENT
DTSTAMP:20260424T134721
DTSTART;TZID=Europe/Berlin:20260624T193000
DTEND;TZID=Europe/Berlin:20260624T213000
UID:261211001-20260624T193000@VHSOBERES NAGOLDTAL
SUMMARY:Arbeitsgemeinschaft  Fotografie (261211001) 
LOCATION:Volkshochschule Nagold: OG1, Bahnhofstraße 41, 72202 Nagold
END:VEVENT
BEGIN:VEVENT
DTSTAMP:20260424T134721
DTSTART;TZID=Europe/Berlin:20260708T193000
DTEND;TZID=Europe/Berlin:20260708T213000
UID:261211001-20260708T193000@VHSOBERES NAGOLDTAL
SUMMARY:Arbeitsgemeinschaft  Fotografie (261211001) 
LOCATION:Volkshochschule Nagold: OG1, Bahnhofstraße 41, 72202 Nagold
END:VEVENT
BEGIN:VEVENT
DTSTAMP:20260424T134721
DTSTART;TZID=Europe/Berlin:20260722T193000
DTEND;TZID=Europe/Berlin:20260722T213000
UID:261211001-20260722T193000@VHSOBERES NAGOLDTAL
SUMMARY:Arbeitsgemeinschaft  Fotografie (261211001) 
LOCATION:Volkshochschule Nagold: OG1, Bahnhofstraße 41, 72202 Nagold
END:VEVENT
END:VCALENDAR