BEGIN:VCALENDAR
PRODID:http://www.kufer.de/kuferweb / DE
VERSION:2.0
METHOD:PUBLISH
CALSCALE:GREGORIAN
X-WR-TIMEZONE:Europe/Berlin
BEGIN:VTIMEZONE
TZID:Europe/Berlin
X-LIC-LOCATION:Europe/Berlin
BEGIN:DAYLIGHT
TZOFFSETFROM:+0100
TZOFFSETTO:+0200
TZNAME:CEST
DTSTART;TZID=Europe/Berlin:19700329T020000
RRULE:FREQ=YEARLY;INTERVAL=1;BYDAY=-1SU;BYMONTH=3
END:DAYLIGHT
BEGIN:STANDARD
TZOFFSETFROM:+0200
TZOFFSETTO:+0100
TZNAME:CET
DTSTART;TZID=Europe/Berlin:19701025T030000
RRULE:FREQ=YEARLY;INTERVAL=1;BYDAY=-1SU;BYMONTH=10
END:STANDARD
END:VTIMEZONE
BEGIN:VEVENT
DTSTAMP:20260425T141046
DTSTART;TZID=Europe/Berlin:20260122T173000
DTEND;TZID=Europe/Berlin:20260122T190000
UID:261213003-20260122T173000@VHSOBERES NAGOLDTAL
SUMMARY:Blockflötenspielkreis (14-tägig) (261213003) 
LOCATION:Bürgertreff Rohrdorf: Bürgertreff, Komtureihof 4, 72229 Rohrdorf
END:VEVENT
BEGIN:VEVENT
DTSTAMP:20260425T141046
DTSTART;TZID=Europe/Berlin:20260205T173000
DTEND;TZID=Europe/Berlin:20260205T190000
UID:261213003-20260205T173000@VHSOBERES NAGOLDTAL
SUMMARY:Blockflötenspielkreis (14-tägig) (261213003) 
LOCATION:Bürgertreff Rohrdorf: Bürgertreff, Komtureihof 4, 72229 Rohrdorf
END:VEVENT
BEGIN:VEVENT
DTSTAMP:20260425T141046
DTSTART;TZID=Europe/Berlin:20260305T173000
DTEND;TZID=Europe/Berlin:20260305T190000
UID:261213003-20260305T173000@VHSOBERES NAGOLDTAL
SUMMARY:Blockflötenspielkreis (14-tägig) (261213003) 
LOCATION:Bürgertreff Rohrdorf: Bürgertreff, Komtureihof 4, 72229 Rohrdorf
END:VEVENT
BEGIN:VEVENT
DTSTAMP:20260425T141046
DTSTART;TZID=Europe/Berlin:20260319T173000
DTEND;TZID=Europe/Berlin:20260319T190000
UID:261213003-20260319T173000@VHSOBERES NAGOLDTAL
SUMMARY:Blockflötenspielkreis (14-tägig) (261213003) 
LOCATION:Bürgertreff Rohrdorf: Bürgertreff, Komtureihof 4, 72229 Rohrdorf
END:VEVENT
BEGIN:VEVENT
DTSTAMP:20260425T141046
DTSTART;TZID=Europe/Berlin:20260416T173000
DTEND;TZID=Europe/Berlin:20260416T190000
UID:261213003-20260416T173000@VHSOBERES NAGOLDTAL
SUMMARY:Blockflötenspielkreis (14-tägig) (261213003) 
LOCATION:Bürgertreff Rohrdorf: Bürgertreff, Komtureihof 4, 72229 Rohrdorf
END:VEVENT
BEGIN:VEVENT
DTSTAMP:20260425T141046
DTSTART;TZID=Europe/Berlin:20260430T173000
DTEND;TZID=Europe/Berlin:20260430T190000
UID:261213003-20260430T173000@VHSOBERES NAGOLDTAL
SUMMARY:Blockflötenspielkreis (14-tägig) (261213003) 
LOCATION:Bürgertreff Rohrdorf: Bürgertreff, Komtureihof 4, 72229 Rohrdorf
END:VEVENT
BEGIN:VEVENT
DTSTAMP:20260425T141046
DTSTART;TZID=Europe/Berlin:20260611T173000
DTEND;TZID=Europe/Berlin:20260611T190000
UID:261213003-20260611T173000@VHSOBERES NAGOLDTAL
SUMMARY:Blockflötenspielkreis (14-tägig) (261213003) 
LOCATION:Bürgertreff Rohrdorf: Bürgertreff, Komtureihof 4, 72229 Rohrdorf
END:VEVENT
BEGIN:VEVENT
DTSTAMP:20260425T141046
DTSTART;TZID=Europe/Berlin:20260625T173000
DTEND;TZID=Europe/Berlin:20260625T190000
UID:261213003-20260625T173000@VHSOBERES NAGOLDTAL
SUMMARY:Blockflötenspielkreis (14-tägig) (261213003) 
LOCATION:Bürgertreff Rohrdorf: Bürgertreff, Komtureihof 4, 72229 Rohrdorf
END:VEVENT
BEGIN:VEVENT
DTSTAMP:20260425T141046
DTSTART;TZID=Europe/Berlin:20260709T173000
DTEND;TZID=Europe/Berlin:20260709T190000
UID:261213003-20260709T173000@VHSOBERES NAGOLDTAL
SUMMARY:Blockflötenspielkreis (14-tägig) (261213003) 
LOCATION:Bürgertreff Rohrdorf: Bürgertreff, Komtureihof 4, 72229 Rohrdorf
END:VEVENT
BEGIN:VEVENT
DTSTAMP:20260425T141046
DTSTART;TZID=Europe/Berlin:20260723T173000
DTEND;TZID=Europe/Berlin:20260723T190000
UID:261213003-20260723T173000@VHSOBERES NAGOLDTAL
SUMMARY:Blockflötenspielkreis (14-tägig) (261213003) 
LOCATION:Bürgertreff Rohrdorf: Bürgertreff, Komtureihof 4, 72229 Rohrdorf
END:VEVENT
END:VCALENDAR