BEGIN:VCALENDAR
PRODID:http://www.kufer.de/kuferweb / DE
VERSION:2.0
METHOD:PUBLISH
CALSCALE:GREGORIAN
X-WR-TIMEZONE:Europe/Berlin
BEGIN:VTIMEZONE
TZID:Europe/Berlin
X-LIC-LOCATION:Europe/Berlin
BEGIN:DAYLIGHT
TZOFFSETFROM:+0100
TZOFFSETTO:+0200
TZNAME:CEST
DTSTART;TZID=Europe/Berlin:19700329T020000
RRULE:FREQ=YEARLY;INTERVAL=1;BYDAY=-1SU;BYMONTH=3
END:DAYLIGHT
BEGIN:STANDARD
TZOFFSETFROM:+0200
TZOFFSETTO:+0100
TZNAME:CET
DTSTART;TZID=Europe/Berlin:19701025T030000
RRULE:FREQ=YEARLY;INTERVAL=1;BYDAY=-1SU;BYMONTH=10
END:STANDARD
END:VTIMEZONE
BEGIN:VEVENT
DTSTAMP:20260420T174124
DTSTART;TZID=Europe/Berlin:20260617T164500
DTEND;TZID=Europe/Berlin:20260617T174500
UID:2613022403-20260617T164500@VHSOBERES NAGOLDTAL
SUMMARY:Pilates (2613022403) 
LOCATION:Seminarhaus Egenhausen, Kapfweg 5, 72227 Egenhausen
END:VEVENT
BEGIN:VEVENT
DTSTAMP:20260420T174124
DTSTART;TZID=Europe/Berlin:20260624T164500
DTEND;TZID=Europe/Berlin:20260624T174500
UID:2613022403-20260624T164500@VHSOBERES NAGOLDTAL
SUMMARY:Pilates (2613022403) 
LOCATION:Seminarhaus Egenhausen, Kapfweg 5, 72227 Egenhausen
END:VEVENT
BEGIN:VEVENT
DTSTAMP:20260420T174124
DTSTART;TZID=Europe/Berlin:20260701T164500
DTEND;TZID=Europe/Berlin:20260701T174500
UID:2613022403-20260701T164500@VHSOBERES NAGOLDTAL
SUMMARY:Pilates (2613022403) 
LOCATION:Seminarhaus Egenhausen, Kapfweg 5, 72227 Egenhausen
END:VEVENT
BEGIN:VEVENT
DTSTAMP:20260420T174124
DTSTART;TZID=Europe/Berlin:20260708T164500
DTEND;TZID=Europe/Berlin:20260708T174500
UID:2613022403-20260708T164500@VHSOBERES NAGOLDTAL
SUMMARY:Pilates (2613022403) 
LOCATION:Seminarhaus Egenhausen, Kapfweg 5, 72227 Egenhausen
END:VEVENT
BEGIN:VEVENT
DTSTAMP:20260420T174124
DTSTART;TZID=Europe/Berlin:20260715T164500
DTEND;TZID=Europe/Berlin:20260715T174500
UID:2613022403-20260715T164500@VHSOBERES NAGOLDTAL
SUMMARY:Pilates (2613022403) 
LOCATION:Seminarhaus Egenhausen, Kapfweg 5, 72227 Egenhausen
END:VEVENT
BEGIN:VEVENT
DTSTAMP:20260420T174124
DTSTART;TZID=Europe/Berlin:20260722T164500
DTEND;TZID=Europe/Berlin:20260722T174500
UID:2613022403-20260722T164500@VHSOBERES NAGOLDTAL
SUMMARY:Pilates (2613022403) 
LOCATION:Seminarhaus Egenhausen, Kapfweg 5, 72227 Egenhausen
END:VEVENT
END:VCALENDAR