BEGIN:VCALENDAR
PRODID:http://www.kufer.de/kuferweb / DE
VERSION:2.0
METHOD:PUBLISH
CALSCALE:GREGORIAN
X-WR-TIMEZONE:Europe/Berlin
BEGIN:VTIMEZONE
TZID:Europe/Berlin
X-LIC-LOCATION:Europe/Berlin
BEGIN:DAYLIGHT
TZOFFSETFROM:+0100
TZOFFSETTO:+0200
TZNAME:CEST
DTSTART;TZID=Europe/Berlin:19700329T020000
RRULE:FREQ=YEARLY;INTERVAL=1;BYDAY=-1SU;BYMONTH=3
END:DAYLIGHT
BEGIN:STANDARD
TZOFFSETFROM:+0200
TZOFFSETTO:+0100
TZNAME:CET
DTSTART;TZID=Europe/Berlin:19701025T030000
RRULE:FREQ=YEARLY;INTERVAL=1;BYDAY=-1SU;BYMONTH=10
END:STANDARD
END:VTIMEZONE
BEGIN:VEVENT
DTSTAMP:20260424T193201
DTSTART;TZID=Europe/Berlin:20260520T090000
DTEND;TZID=Europe/Berlin:20260520T100000
UID:2613023116-20260520T090000@VHSOBERES NAGOLDTAL
SUMMARY:Core-Training für Bauch und Rücken (2613023116) 
LOCATION:Bächlenhalle Nagold: VHS-Gymnastikraum, Max-Eyth-Straße 12, 72202 Nagold
END:VEVENT
BEGIN:VEVENT
DTSTAMP:20260424T193201
DTSTART;TZID=Europe/Berlin:20260610T090000
DTEND;TZID=Europe/Berlin:20260610T100000
UID:2613023116-20260610T090000@VHSOBERES NAGOLDTAL
SUMMARY:Core-Training für Bauch und Rücken (2613023116) 
LOCATION:Bächlenhalle Nagold: VHS-Gymnastikraum, Max-Eyth-Straße 12, 72202 Nagold
END:VEVENT
BEGIN:VEVENT
DTSTAMP:20260424T193201
DTSTART;TZID=Europe/Berlin:20260617T090000
DTEND;TZID=Europe/Berlin:20260617T100000
UID:2613023116-20260617T090000@VHSOBERES NAGOLDTAL
SUMMARY:Core-Training für Bauch und Rücken (2613023116) 
LOCATION:Bächlenhalle Nagold: VHS-Gymnastikraum, Max-Eyth-Straße 12, 72202 Nagold
END:VEVENT
BEGIN:VEVENT
DTSTAMP:20260424T193201
DTSTART;TZID=Europe/Berlin:20260624T090000
DTEND;TZID=Europe/Berlin:20260624T100000
UID:2613023116-20260624T090000@VHSOBERES NAGOLDTAL
SUMMARY:Core-Training für Bauch und Rücken (2613023116) 
LOCATION:Bächlenhalle Nagold: VHS-Gymnastikraum, Max-Eyth-Straße 12, 72202 Nagold
END:VEVENT
BEGIN:VEVENT
DTSTAMP:20260424T193201
DTSTART;TZID=Europe/Berlin:20260701T090000
DTEND;TZID=Europe/Berlin:20260701T100000
UID:2613023116-20260701T090000@VHSOBERES NAGOLDTAL
SUMMARY:Core-Training für Bauch und Rücken (2613023116) 
LOCATION:Bächlenhalle Nagold: VHS-Gymnastikraum, Max-Eyth-Straße 12, 72202 Nagold
END:VEVENT
BEGIN:VEVENT
DTSTAMP:20260424T193201
DTSTART;TZID=Europe/Berlin:20260708T090000
DTEND;TZID=Europe/Berlin:20260708T100000
UID:2613023116-20260708T090000@VHSOBERES NAGOLDTAL
SUMMARY:Core-Training für Bauch und Rücken (2613023116) 
LOCATION:Bächlenhalle Nagold: VHS-Gymnastikraum, Max-Eyth-Straße 12, 72202 Nagold
END:VEVENT
BEGIN:VEVENT
DTSTAMP:20260424T193201
DTSTART;TZID=Europe/Berlin:20260715T090000
DTEND;TZID=Europe/Berlin:20260715T100000
UID:2613023116-20260715T090000@VHSOBERES NAGOLDTAL
SUMMARY:Core-Training für Bauch und Rücken (2613023116) 
LOCATION:Bächlenhalle Nagold: VHS-Gymnastikraum, Max-Eyth-Straße 12, 72202 Nagold
END:VEVENT
BEGIN:VEVENT
DTSTAMP:20260424T193201
DTSTART;TZID=Europe/Berlin:20260722T090000
DTEND;TZID=Europe/Berlin:20260722T100000
UID:2613023116-20260722T090000@VHSOBERES NAGOLDTAL
SUMMARY:Core-Training für Bauch und Rücken (2613023116) 
LOCATION:Bächlenhalle Nagold: VHS-Gymnastikraum, Max-Eyth-Straße 12, 72202 Nagold
END:VEVENT
BEGIN:VEVENT
DTSTAMP:20260424T193201
DTSTART;TZID=Europe/Berlin:20260729T090000
DTEND;TZID=Europe/Berlin:20260729T100000
UID:2613023116-20260729T090000@VHSOBERES NAGOLDTAL
SUMMARY:Core-Training für Bauch und Rücken (2613023116) 
LOCATION:Bächlenhalle Nagold: VHS-Gymnastikraum, Max-Eyth-Straße 12, 72202 Nagold
END:VEVENT
END:VCALENDAR