BEGIN:VCALENDAR
PRODID:http://www.kufer.de/kuferweb / DE
VERSION:2.0
METHOD:PUBLISH
CALSCALE:GREGORIAN
X-WR-TIMEZONE:Europe/Berlin
BEGIN:VTIMEZONE
TZID:Europe/Berlin
X-LIC-LOCATION:Europe/Berlin
BEGIN:DAYLIGHT
TZOFFSETFROM:+0100
TZOFFSETTO:+0200
TZNAME:CEST
DTSTART;TZID=Europe/Berlin:19700329T020000
RRULE:FREQ=YEARLY;INTERVAL=1;BYDAY=-1SU;BYMONTH=3
END:DAYLIGHT
BEGIN:STANDARD
TZOFFSETFROM:+0200
TZOFFSETTO:+0100
TZNAME:CET
DTSTART;TZID=Europe/Berlin:19701025T030000
RRULE:FREQ=YEARLY;INTERVAL=1;BYDAY=-1SU;BYMONTH=10
END:STANDARD
END:VTIMEZONE
BEGIN:VEVENT
DTSTAMP:20260424T134703
DTSTART;TZID=Europe/Berlin:20260418T080000
DTEND;TZID=Europe/Berlin:20260418T153000
UID:261505004-20260418T080000@VHSOBERES NAGOLDTAL
SUMMARY:Schweißen – Schritt für Schritt lernen (261505004) 
LOCATION:Berufsschulzentrum Nagold: Einang A4, Parkplatz Werkstätten, , 
END:VEVENT
BEGIN:VEVENT
DTSTAMP:20260424T134703
DTSTART;TZID=Europe/Berlin:20260425T080000
DTEND;TZID=Europe/Berlin:20260425T153000
UID:261505004-20260425T080000@VHSOBERES NAGOLDTAL
SUMMARY:Schweißen – Schritt für Schritt lernen (261505004) 
LOCATION:Berufsschulzentrum Nagold: Einang A4, Parkplatz Werkstätten, , 
END:VEVENT
END:VCALENDAR