BEGIN:VCALENDAR
PRODID:http://www.kufer.de/kuferweb / DE
VERSION:2.0
METHOD:PUBLISH
CALSCALE:GREGORIAN
X-WR-TIMEZONE:Europe/Berlin
BEGIN:VTIMEZONE
TZID:Europe/Berlin
X-LIC-LOCATION:Europe/Berlin
BEGIN:DAYLIGHT
TZOFFSETFROM:+0100
TZOFFSETTO:+0200
TZNAME:CEST
DTSTART;TZID=Europe/Berlin:19700329T020000
RRULE:FREQ=YEARLY;INTERVAL=1;BYDAY=-1SU;BYMONTH=3
END:DAYLIGHT
BEGIN:STANDARD
TZOFFSETFROM:+0200
TZOFFSETTO:+0100
TZNAME:CET
DTSTART;TZID=Europe/Berlin:19701025T030000
RRULE:FREQ=YEARLY;INTERVAL=1;BYDAY=-1SU;BYMONTH=10
END:STANDARD
END:VTIMEZONE
BEGIN:VEVENT
DTSTAMP:20260424T134428
DTSTART;TZID=Europe/Berlin:20260805T193000
DTEND;TZID=Europe/Berlin:20260805T213000
UID:262211001-20260805T193000@VHSOBERES NAGOLDTAL
SUMMARY:Arbeitsgemeinschaft  Fotografie (262211001) 
LOCATION:Volkshochschule Nagold: OG1, Bahnhofstraße 41, 72202 Nagold
END:VEVENT
BEGIN:VEVENT
DTSTAMP:20260424T134428
DTSTART;TZID=Europe/Berlin:20260819T193000
DTEND;TZID=Europe/Berlin:20260819T213000
UID:262211001-20260819T193000@VHSOBERES NAGOLDTAL
SUMMARY:Arbeitsgemeinschaft  Fotografie (262211001) 
LOCATION:Volkshochschule Nagold: OG1, Bahnhofstraße 41, 72202 Nagold
END:VEVENT
BEGIN:VEVENT
DTSTAMP:20260424T134428
DTSTART;TZID=Europe/Berlin:20260902T193000
DTEND;TZID=Europe/Berlin:20260902T213000
UID:262211001-20260902T193000@VHSOBERES NAGOLDTAL
SUMMARY:Arbeitsgemeinschaft  Fotografie (262211001) 
LOCATION:Volkshochschule Nagold: OG1, Bahnhofstraße 41, 72202 Nagold
END:VEVENT
BEGIN:VEVENT
DTSTAMP:20260424T134428
DTSTART;TZID=Europe/Berlin:20260916T193000
DTEND;TZID=Europe/Berlin:20260916T213000
UID:262211001-20260916T193000@VHSOBERES NAGOLDTAL
SUMMARY:Arbeitsgemeinschaft  Fotografie (262211001) 
LOCATION:Volkshochschule Nagold: OG1, Bahnhofstraße 41, 72202 Nagold
END:VEVENT
BEGIN:VEVENT
DTSTAMP:20260424T134428
DTSTART;TZID=Europe/Berlin:20260930T193000
DTEND;TZID=Europe/Berlin:20260930T213000
UID:262211001-20260930T193000@VHSOBERES NAGOLDTAL
SUMMARY:Arbeitsgemeinschaft  Fotografie (262211001) 
LOCATION:Volkshochschule Nagold: OG1, Bahnhofstraße 41, 72202 Nagold
END:VEVENT
BEGIN:VEVENT
DTSTAMP:20260424T134428
DTSTART;TZID=Europe/Berlin:20261014T193000
DTEND;TZID=Europe/Berlin:20261014T213000
UID:262211001-20261014T193000@VHSOBERES NAGOLDTAL
SUMMARY:Arbeitsgemeinschaft  Fotografie (262211001) 
LOCATION:Volkshochschule Nagold: OG1, Bahnhofstraße 41, 72202 Nagold
END:VEVENT
BEGIN:VEVENT
DTSTAMP:20260424T134428
DTSTART;TZID=Europe/Berlin:20261028T193000
DTEND;TZID=Europe/Berlin:20261028T213000
UID:262211001-20261028T193000@VHSOBERES NAGOLDTAL
SUMMARY:Arbeitsgemeinschaft  Fotografie (262211001) 
LOCATION:Volkshochschule Nagold: OG1, Bahnhofstraße 41, 72202 Nagold
END:VEVENT
BEGIN:VEVENT
DTSTAMP:20260424T134428
DTSTART;TZID=Europe/Berlin:20261111T193000
DTEND;TZID=Europe/Berlin:20261111T213000
UID:262211001-20261111T193000@VHSOBERES NAGOLDTAL
SUMMARY:Arbeitsgemeinschaft  Fotografie (262211001) 
LOCATION:Volkshochschule Nagold: OG1, Bahnhofstraße 41, 72202 Nagold
END:VEVENT
BEGIN:VEVENT
DTSTAMP:20260424T134428
DTSTART;TZID=Europe/Berlin:20261125T193000
DTEND;TZID=Europe/Berlin:20261125T213000
UID:262211001-20261125T193000@VHSOBERES NAGOLDTAL
SUMMARY:Arbeitsgemeinschaft  Fotografie (262211001) 
LOCATION:Volkshochschule Nagold: OG1, Bahnhofstraße 41, 72202 Nagold
END:VEVENT
BEGIN:VEVENT
DTSTAMP:20260424T134428
DTSTART;TZID=Europe/Berlin:20261209T193000
DTEND;TZID=Europe/Berlin:20261209T213000
UID:262211001-20261209T193000@VHSOBERES NAGOLDTAL
SUMMARY:Arbeitsgemeinschaft  Fotografie (262211001) 
LOCATION:Volkshochschule Nagold: OG1, Bahnhofstraße 41, 72202 Nagold
END:VEVENT
BEGIN:VEVENT
DTSTAMP:20260424T134428
DTSTART;TZID=Europe/Berlin:20270120T193000
DTEND;TZID=Europe/Berlin:20270120T213000
UID:262211001-20270120T193000@VHSOBERES NAGOLDTAL
SUMMARY:Arbeitsgemeinschaft  Fotografie (262211001) 
LOCATION:Volkshochschule Nagold: OG1, Bahnhofstraße 41, 72202 Nagold
END:VEVENT
END:VCALENDAR